BEGIN:VCALENDAR
VERSION:2.0
PRODID:-//jEvents 2.0 for Joomla//EN
CALSCALE:GREGORIAN
METHOD:PUBLISH
BEGIN:VEVENT
UID:e04e2e6ceae5009c61b405ad143f6a58
CATEGORIES:15. Bezirk
CREATED:19700101T010000
SUMMARY:Babyspielgruppe ~ Welcome into Life  Susi Pecina 
LOCATION:1150 Wien\, Westbahnhof\, Neubaugürtel 7 separater Eingang 
DESCRIPTION:Spielgruppen, die nicht nur den Kindern die Möglichkeit geben, sich auszupr
 obieren, vielmehr auch für die begleitenden Mütter, Väter, Omas oder andere
 n Betreuungsmenschen, die Kinder neu zu erleben. \n\nSeit über 20 Jahren, m
 itwachsend mit den unterschiedlichen Bedingungen, unter denen Babys und Kin
 der aufwachsen und doch die gleichbleibenden Bedürfnisse haben nach Liebe, 
 Zuwendung, Aufmerksamkeit, Verständnis. \n\nAuch für Familien mit Geschwist
 erkindern! \n\nIch freu mich, auch dich mit deinem Kind/ern begrüßen zu dür
 fen! :) \n\nHerzlichst, \nSusi Pecina \n\nFür einen Überblick zu weiteren A
 ngeboten: bitte hier entlang: \nhttps://www.welcomeintolife.at (https://www
 .welcomeintolife.at)\n
X-ALT-DESC;FMTTYPE=text/html:<p>Spielgruppen, die nicht nur den Kindern die Möglichkeit geben, sich ausz
 uprobieren, vielmehr auch für die begleitenden Mütter, Väter, Omas oder and
 eren Betreuungsmenschen, die Kinder neu zu erleben. <br /><br />Seit über 2
 0 Jahren, mitwachsend mit den unterschiedlichen Bedingungen, unter denen Ba
 bys und Kinder aufwachsen und doch die gleichbleibenden Bedürfnisse haben n
 ach Liebe, Zuwendung, Aufmerksamkeit, Verständnis. <br /><br />Auch für Fam
 ilien mit Geschwisterkindern! <br /><br />Ich freu mich, auch dich mit dein
 em Kind/ern begrüßen zu dürfen! :) <br /><br />Herzlichst, <br />Susi Pecin
 a <br /><br />Für einen Überblick zu weiteren Angeboten: bitte hier entlang
 : <br /><a href="https://www.welcomeintolife.at">https://www.welcomeintolif
 e.at</a></p>
CONTACT:https://www.welcomeintolife.at/angebote/sommer-spielgruppe-1-lebensjahr/
X-EXTRAINFO:[preis='15000'][anmeldung='true']
DTSTAMP:20260425T153625
DTSTART:20181211T123000
DTEND:20181211T140000
SEQUENCE:0
RRULE:FREQ=WEEKLY;COUNT=12;INTERVAL=1;BYDAY=TU
TRANSP:OPAQUE
END:VEVENT
END:VCALENDAR