BEGIN:VCALENDAR
VERSION:2.0
PRODID:-//jEvents 2.0 for Joomla//EN
CALSCALE:GREGORIAN
METHOD:PUBLISH
BEGIN:VEVENT
UID:330be1298902dbe05e03b38000314d01
CATEGORIES:7. Bezirk
CREATED:20181211T105054
SUMMARY:"1,2,3,4 tanz mit mir!" - Familientanzen
LOCATION:1070\, Lindengasse 44a\, großer Saal (Zugang durch die Hofeinfahrt)
DESCRIPTION:Tänze, Lieder &amp; Singspiele aus verschiedenen Ländern, Zeiten und Kultur
 en  \nfür Traglinge, Krabbelkinder, Kleinkinder, Kindergartenkinder, Schulk
 inder, Mütter, Väter, Geschwister, Großmütter, Großväter, Tanten, Onkeln, C
 ousinen, Cousins, Neffen, Nichten, Freundinnen und Freunde!\n* Gemeinschaft
  erleben beim Singen &amp; Tanzen\n*  mit Musik und Bewegung spielerisch di
 e emotionalen und sozialen Fähigkeiten fördern\n*  mit alten, neuen oder se
 lbst erfundenen Tänzen die Beweglichkeit des Körpers spüren und genießen\n 
 ... aber vor allem ganz viel Spaß bei Bewegung und Livemusik haben!\n \noff
 ener zweimonatlicher Tanz - &amp; Singnachmittag (weitere Termine: 24.3., 2
 6.5.), Spende für die Livemusik\nZugang durch die Hofeinfahrt ganz links un
 d dann die Stiegen hinunter\nweitere Infos:\nhttps://musiktanzkultur.wordpr
 ess.com/termine/\n \n
X-ALT-DESC;FMTTYPE=text/html:<p>Tänze, Lieder &amp; Singspiele aus verschiedenen Ländern, Zeiten und Kul
 turen  </p><p>für Traglinge, Krabbelkinder, Kleinkinder, Kindergartenkinder
 , Schulkinder, Mütter, Väter, Geschwister, Großmütter, Großväter, Tanten, O
 nkeln, Cousinen, Cousins, Neffen, Nichten, Freundinnen und Freunde!</p><p>*
  Gemeinschaft erleben beim Singen &amp; Tanzen</p><p>*  <em>mit Musik und B
 ewegung </em>spielerisch<em> die emotionalen und sozialen Fähigkeiten förde
 rn</em></p><p><em>*  </em>mit alten, neuen oder selbst erfundenen Tänzen di
 e Beweglichkeit des Körpers spüren und genießen</p><p><strong> ... aber vor
  allem ganz viel Spaß bei Bewegung und Livemusik haben!</strong></p><p> </p
 ><p>offener zweimonatlicher Tanz - &amp; Singnachmittag (weitere Termine: 2
 4.3., 26.5.), Spende für die Livemusik</p><p>Zugang durch die Hofeinfahrt g
 anz links und dann die Stiegen hinunter</p><p>weitere Infos:</p><p>https://
 musiktanzkultur.wordpress.com/termine/</p><p> </p>
CONTACT:Eva 069918877073
DTSTAMP:20260425T134410
DTSTART:20190120T150000
DTEND:20190120T170000
SEQUENCE:0
TRANSP:OPAQUE
END:VEVENT
END:VCALENDAR