BEGIN:VCALENDAR
VERSION:2.0
PRODID:-//jEvents 2.0 for Joomla//EN
CALSCALE:GREGORIAN
METHOD:PUBLISH
BEGIN:VEVENT
UID:c53945c243a8de1419de32ca8330ceaf
CATEGORIES:18. Bezirk
CREATED:19700101T010000
SUMMARY:Schwangerenyoga mit Rita
LOCATION:Spielringel\, Mollgasse 11-13
DESCRIPTION:Eine SCHWANGERSCHAFT ist eine ganz besondere Zeit im Leben einer Frau. Es i
 st die Zeit großer Veränderungen – im Körper, in der Gefühlswelt und in der
  Rolle, die die werdende Mutter in Beruf und Partnerschaft einnimmt. Es ist
  eine Zeit, in der intuitiv die Bereitschaft, nach innen zu schauen und mit
  sich selbst in Kontakt zu sein, sehr groß ist. Yoga ist genau in dieser wi
 chtigen Lebensphase eine wunderbare Art, diese Verbindung zu sich selbst zu
  finden und zu intensivieren. Atemübungen führen sanft in den Moment und la
 ssen die immer kreisenden Gedanken zur Ruhe kommen, und sanfte Körperübunge
 n schaffen eine wunderbare Verbindung zwischen Körper und Geist.\nYoga ist 
 sowohl für Frauen, die bereits Vorerfahrung haben, als auch für Yoga-Anfäng
 erinnen eine wunderbare Möglichkeit, körperlich und geistig beweglich zu bl
 eiben, die Veränderungen anzunehmen und sich auf all das Neue vorzubereiten
 . Empfehlenswert ist dafür ein spezieller Kurs für werdende Mütter, denn es
  gibt viele Asanas, die man während der Schwangerschaft nicht praktizieren 
 soll, und wiederum welche, die genau in diesen Monaten besonders wertvoll s
 ind.\n \n4 Wochen-Kurs: € 60,-\n
X-ALT-DESC;FMTTYPE=text/html:<div id="c276" class="frame frame-default frame-type-text frame-background-
  frame-no-backgroundimage frame-space-before-none frame-space-after-none"><
 div class="frame-container"><div class="frame-inner"><p>Eine <strong>SCHWAN
 GERSCHAFT</strong> ist eine ganz besondere Zeit im Leben einer Frau. Es ist
  die Zeit großer Veränderungen – im Körper, in der Gefühlswelt und in der R
 olle, die die werdende Mutter in Beruf und Partnerschaft einnimmt. Es ist e
 ine Zeit, in der intuitiv die Bereitschaft, nach innen zu schauen und mit s
 ich selbst in Kontakt zu sein, sehr groß ist. Yoga ist genau in dieser wich
 tigen Lebensphase eine wunderbare Art, diese Verbindung zu sich selbst zu f
 inden und zu intensivieren. Atemübungen führen sanft in den Moment und lass
 en die immer kreisenden Gedanken zur Ruhe kommen, und sanfte Körperübungen 
 schaffen eine wunderbare Verbindung zwischen Körper und Geist.</p><p>Yoga i
 st sowohl für Frauen, die bereits Vorerfahrung haben, als auch für Yoga-Anf
 ängerinnen eine wunderbare Möglichkeit, körperlich und geistig beweglich zu
  bleiben, die Veränderungen anzunehmen und sich auf all das Neue vorzuberei
 ten. Empfehlenswert ist dafür ein spezieller Kurs für werdende Mütter, denn
  es gibt viele Asanas, die man während der Schwangerschaft nicht praktizier
 en soll, und wiederum welche, die genau in diesen Monaten besonders wertvol
 l sind.</p><p> </p><p>4 Wochen-Kurs: € 60,-</p></div></div></div>
CONTACT:http://schwangerschaft-elternschaft.at/angebote/bewegung-entspannung/schwangerenyoga/
X-EXTRAINFO:[preis='6000'][anmeldung='true']
DTSTAMP:20260425T104001
DTSTART:20190109T093000
DTEND:20190109T103000
SEQUENCE:0
RRULE:FREQ=WEEKLY;UNTIL=20190131T000000Z;INTERVAL=1;BYDAY=WE
TRANSP:OPAQUE
END:VEVENT
END:VCALENDAR