BEGIN:VCALENDAR
VERSION:2.0
PRODID:-//jEvents 2.0 for Joomla//EN
CALSCALE:GREGORIAN
METHOD:PUBLISH
BEGIN:VEVENT
UID:a35b3078953e3c7f733d4d7d91d1d1dd
CATEGORIES:18. Bezirk
CREATED:20181212T112512
SUMMARY:Kreative Freude
LOCATION:Spielringel\, Mollgasse 11-13
DESCRIPTION:16.01.2019 Schneemänner und Schneefrauen\nBei der Kreativen Freude geht es 
 weniger um das Endprodukt, als um den Spaß und die Freude beim Kreativ sein
 .\nEs werden verschiedene Bastelmaterialien und Ideen zu einem Thema zur Ve
 rfügung gestellt und die Kinder dürfen nach Lust und Laune werken.\nWir mal
 en, basteln, schnippseln, stempeln, stanzen, kleben, formen, usw .-  daher 
 ist es sinnvoll, Gewand, das auch schmutzig werden darf, anzuziehen.\n \nKo
 sten: € 20,- pro Kind mit Begleitperson\nInfo &amp; Anmeldung:\n office@spi
 elringel.at\n
X-ALT-DESC;FMTTYPE=text/html:<div id="c391" class="frame frame-default frame-type-textpic frame-backgrou
 nd- frame-no-backgroundimage frame-space-before-none frame-space-after-none
 "><div class="frame-container"><div class="frame-inner"><p>16.01.2019 Schne
 emänner und Schneefrauen</p><p>Bei der Kreativen Freude geht es weniger um 
 das Endprodukt, als um den Spaß und die Freude beim Kreativ sein.</p><p>Es 
 werden verschiedene Bastelmaterialien und Ideen zu einem Thema zur Verfügun
 g gestellt und die Kinder dürfen nach Lust und Laune werken.</p><p>Wir male
 n, basteln, schnippseln, stempeln, stanzen, kleben, formen, usw .-  daher i
 st es sinnvoll, Gewand, das auch schmutzig werden darf, anzuziehen.</p><p> 
 </p><p><span class="text-primary">Kosten: </span>€ 20,- pro Kind mit Beglei
 tperson</p><p><span class="text-primary">Info &amp; Anmeldung:</span><br />
  office@spielringel.at</p></div></div></div>
CONTACT:http://schwangerschaft-elternschaft.at/angebote/spiel-spass-musik/kreative-freude/ (http://schwangerschaft-elternschaft.at/angebote/spiel-spass-musik/kreative-freude/)
X-EXTRAINFO:[preis='2000'][anmeldung='true']
DTSTAMP:20260425T135310
DTSTART:20190116T133000
DTEND:20190116T150000
SEQUENCE:0
TRANSP:OPAQUE
END:VEVENT
END:VCALENDAR