BEGIN:VCALENDAR
VERSION:2.0
PRODID:-//jEvents 2.0 for Joomla//EN
CALSCALE:GREGORIAN
METHOD:PUBLISH
BEGIN:VEVENT
UID:776bae9f708fe33457fc4ee2cb1a9d6d
CATEGORIES:18. Bezirk
CREATED:20181212T112932
SUMMARY:Kreative Freude
LOCATION:Spielringel\, Mollgasse 11-13
DESCRIPTION:30.01.2019 Eisbären und Pinguine\nBei der Kreativen Freude geht es weniger 
 um das Endprodukt, als um den Spaß und die Freude beim Kreativ sein.\nEs we
 rden verschiedene Bastelmaterialien und Ideen zu einem Thema zur Verfügung 
 gestellt und die Kinder dürfen nach Lust und Laune werken.\nWir malen, bast
 eln, schnippseln, stempeln, stanzen, kleben, formen, usw., daher ist es sin
 nvoll, Gewand, das auch schmutzig werden darf, anzuziehen.\n \nKosten: € 20
 ,- pro Kind mit Begleitperson\nInfo &amp; Anmeldung:\n office@spielringel.a
 t\n
X-ALT-DESC;FMTTYPE=text/html:<p>30.01.2019 Eisbären und Pinguine</p><div id="c391" class="frame frame-de
 fault frame-type-textpic frame-background- frame-no-backgroundimage frame-s
 pace-before-none frame-space-after-none"><div class="frame-container"><div 
 class="frame-inner"><p>Bei der Kreativen Freude geht es weniger um das Endp
 rodukt, als um den Spaß und die Freude beim Kreativ sein.</p><p>Es werden v
 erschiedene Bastelmaterialien und Ideen zu einem Thema zur Verfügung gestel
 lt und die Kinder dürfen nach Lust und Laune werken.</p><p>Wir malen, baste
 ln, schnippseln, stempeln, stanzen, kleben, formen, usw., daher ist es sinn
 voll, Gewand, das auch schmutzig werden darf, anzuziehen.</p><p> </p><p><sp
 an class="text-primary">Kosten: </span>€ 20,- pro Kind mit Begleitperson</p
 ><p><span class="text-primary">Info &amp; Anmeldung:</span><br /> office@sp
 ielringel.at</p></div></div></div>
CONTACT:http://schwangerschaft-elternschaft.at/angebote/spiel-spass-musik/kreative-freude/ (http://schwangerschaft-elternschaft.at/angebote/spiel-spass-musik/kreative-freude/)
X-EXTRAINFO:[preis='2000'][anmeldung='true']
DTSTAMP:20260425T170423
DTSTART:20190130T133000
DTEND:20190130T150000
SEQUENCE:0
TRANSP:OPAQUE
END:VEVENT
END:VCALENDAR