BEGIN:VCALENDAR
VERSION:2.0
PRODID:-//jEvents 2.0 for Joomla//EN
CALSCALE:GREGORIAN
METHOD:PUBLISH
BEGIN:VEVENT
UID:904b912f8122dc803c243297d9ec8680
CATEGORIES:18. Bezirk
CREATED:20181212T113145
SUMMARY:Babyplausch
LOCATION:Spielringel\, Mollgasse 11-13
DESCRIPTION:Als Mama hat man oft das Bedürfnis sich mit anderen Mamas auszutauschen, da
 s könnt ihr ganz ungezwungen Freitag vormittags im manú bei Tee und Kuchen.
  Für die Babys gibt es allerlei zu entdecken!\nKosten:\n 10,- Euro pro Erwa
 chsenem\nInfo &amp; Anmeldung:\n ohne Anmeldung - komm einfach vorbei!\n
X-ALT-DESC;FMTTYPE=text/html:<p>Als Mama hat man oft das Bedürfnis sich mit anderen Mamas auszutauschen,
  das könnt ihr ganz ungezwungen Freitag vormittags im manú bei Tee und Kuch
 en. Für die Babys gibt es allerlei zu entdecken!</p><p><span class="text-pr
 imary">Kosten:</span><br /> 10,- Euro pro Erwachsenem</p><p><span class="te
 xt-primary">Info &amp; Anmeldung:</span><br /> ohne Anmeldung - komm einfac
 h vorbei!</p>
CONTACT:http://schwangerschaft-elternschaft.at/angebote/spiel-spass-musik/babyplausch/ (http://schwangerschaft-elternschaft.at/angebote/spiel-spass-musik/babyplausch/)
X-EXTRAINFO:[preis='1000'][anmeldung='false']
DTSTAMP:20260425T170431
DTSTART:20190118T093000
DTEND:20190118T113000
SEQUENCE:0
TRANSP:OPAQUE
END:VEVENT
END:VCALENDAR