BEGIN:VCALENDAR
VERSION:2.0
PRODID:-//jEvents 2.0 for Joomla//EN
CALSCALE:GREGORIAN
METHOD:PUBLISH
BEGIN:VEVENT
UID:09c992bd892587accf701f33fd8edf0a
CATEGORIES:7. Bezirk
CREATED:19700101T010000
SUMMARY:MALEN UND GESTALTEN FÜR ELTERN UND KINDER
LOCATION:Löhrgasse 10
DESCRIPTION:<p>Begeistertes Tun steht hier im Vordergrund. Wer Lust hat, …mit viel Verg
 nügen und Freude am Experimentieren zu malen, mischen, drucken oder stempel
 n, …bunte Farben leuchten zu lassen, …Bilder zu streuen, zu kleben, zu schn
 eiden, zu schütten, …mit Rasierschaum zu patzen, …bunte Nudeln zu fädeln,, 
 … Figuren, Objekte, Landschaften aus Verpackungsmaterial zu stecken und bau
 en,…</p><p>…das Kleben, Reißen, Schneiden, Schütten, Kneten und Formen mach
 t in einer vertrauten Gruppe noch mehr Spaß. Das gemeinsame Arbeiten mit de
 m Kind eröffnet auch den Erwachsenen neue Zugänge zur eigenen Kreativität.<
 /p><p>Leitung: Conny Zogmayr</p>
CONTACT:office@kinderatelier.at
X-EXTRAINFO:[preis='000'][anmeldung='true']
DTSTAMP:20260425T134806
DTSTART:20181110T143000
DTEND:20181110T163000
SEQUENCE:0
RRULE:FREQ=WEEKLY;UNTIL=20190203T000000Z;INTERVAL=1;BYDAY=SA
EXDATE:20181229T143000,20190105T143000
TRANSP:OPAQUE
END:VEVENT
END:VCALENDAR