BEGIN:VCALENDAR
VERSION:2.0
PRODID:-//jEvents 2.0 for Joomla//EN
CALSCALE:GREGORIAN
METHOD:PUBLISH
BEGIN:VEVENT
UID:dc9d67337148e9e1a61a551c4e0a54a7
CATEGORIES:7. Bezirk
CREATED:20181215T231121
SUMMARY:WINTER- MONATS-MALEN FÜR ELTERN UND KINDER
LOCATION:Löhrgasse 10
DESCRIPTION:<p>  …einmal im Monat nach Herzenslust gemeinsam malen, werken,  basteln:  
 ….Gold &amp; Silber malen, Sterne drucken, stempeln, … Glitzerndes und Funk
 elndes schneiden und  stempeln,… Winter-Weißes fädeln und stecken,….</p>
CONTACT:office@kinderatelier.at
X-EXTRAINFO:[preis='2000'][anmeldung='true']
DTSTAMP:20260425T134956
DTSTART:20190128T143000
DTEND:20190128T163000
SEQUENCE:0
TRANSP:OPAQUE
END:VEVENT
END:VCALENDAR