BEGIN:VCALENDAR
VERSION:2.0
PRODID:-//jEvents 2.0 for Joomla//EN
CALSCALE:GREGORIAN
METHOD:PUBLISH
BEGIN:VEVENT
UID:b748226998ec58e5424ebe7640bd2d45
CATEGORIES:8. Bezirk
CREATED:19700101T010000
SUMMARY:Treehut Schwangerschaftsyoga
LOCATION:Across the Universe I Piaristengasse 18 I 1080 Wien
DESCRIPTION:Du erwartest ein Baby und möchtest diese schöne Zeit in vollen Zügen genieß
 en?Beim Yoga kannst du deine Körperwahrnehmung intensivieren und dich auf d
 iese besondere Situation voll und ganz einlassen. Nimm dir Zeit für dich un
 d dein Baby und fühl dich in deinem Körper so richtig wohl.Mehr Infos und A
 nmeldung:info@treehut-yoga.comwww.treehut-yoga.com (https://l.facebook.com/
 l.php?u=http%3A%2F%2Fwww.treehut-yoga.com%2F%3Ffbclid%3DIwAR1b45P0DqAkckhq4
 ewQUD7SSxPD3T8KjuqjVcleOiMn78Vg7iLY6-CpABw&amp;h=AT1YMYWG1jd_o095b2NZ4UHOE9
 1QY9saRcGnuS_UJHKY4F7YoZgmP5FxhQ3Qr7xHnQdiHlOvs7Q9XV140p164ng2cbgeyYUswiuym
 EUJZ_WZnG8DecvmTyI1b7RuwPIogA)\n
X-ALT-DESC;FMTTYPE=text/html:<p><span style="display: inline !important; float: none; background-color: 
 transparent; color: #1d2129; font-family: Helvetica,Arial,sans-serif; font-
 size: 14px; font-style: normal; font-variant: normal; font-weight: 400; let
 ter-spacing: normal; orphans: 2; text-align: left; text-decoration: none; t
 ext-indent: 0px; text-transform: none; -webkit-text-stroke-width: 0px; whit
 e-space: normal; word-spacing: 0px;">Du erwartest ein Baby und möchtest die
 se schöne Zeit in vollen Zügen genießen?</span><br style="background-color:
  transparent; color: #1d2129; font-family: Helvetica,Arial,sans-serif; font
 -size: 14px; font-style: normal; font-variant: normal; font-weight: 400; le
 tter-spacing: normal; orphans: 2; text-align: left; text-decoration: none; 
 text-indent: 0px; text-transform: none; -webkit-text-stroke-width: 0px; whi
 te-space: normal; word-spacing: 0px;" /><span style="display: inline !impor
 tant; float: none; background-color: transparent; color: #1d2129; font-fami
 ly: Helvetica,Arial,sans-serif; font-size: 14px; font-style: normal; font-v
 ariant: normal; font-weight: 400; letter-spacing: normal; orphans: 2; text-
 align: left; text-decoration: none; text-indent: 0px; text-transform: none;
  -webkit-text-stroke-width: 0px; white-space: normal; word-spacing: 0px;">B
 eim Yoga kannst du deine Körperwahrnehmung intensivieren und dich auf diese
  besondere Situation voll und ganz einlassen. Nimm dir Zeit für dich und de
 in Baby und fühl dich in deinem Körper so richtig wohl.</span><br style="ba
 ckground-color: transparent; color: #1d2129; font-family: Helvetica,Arial,s
 ans-serif; font-size: 14px; font-style: normal; font-variant: normal; font-
 weight: 400; letter-spacing: normal; orphans: 2; text-align: left; text-dec
 oration: none; text-indent: 0px; text-transform: none; -webkit-text-stroke-
 width: 0px; white-space: normal; word-spacing: 0px;" /><br style="backgroun
 d-color: transparent; color: #1d2129; font-family: Helvetica,Arial,sans-ser
 if; font-size: 14px; font-style: normal; font-variant: normal; font-weight:
  400; letter-spacing: normal; orphans: 2; text-align: left; text-decoration
 : none; text-indent: 0px; text-transform: none; -webkit-text-stroke-width: 
 0px; white-space: normal; word-spacing: 0px;" /><span style="display: inlin
 e !important; float: none; background-color: transparent; color: #1d2129; f
 ont-family: Helvetica,Arial,sans-serif; font-size: 14px; font-style: normal
 ; font-variant: normal; font-weight: 400; letter-spacing: normal; orphans: 
 2; text-align: left; text-decoration: none; text-indent: 0px; text-transfor
 m: none; -webkit-text-stroke-width: 0px; white-space: normal; word-spacing:
  0px;">Mehr Infos und Anmeldung:</span><br style="background-color: transpa
 rent; color: #1d2129; font-family: Helvetica,Arial,sans-serif; font-size: 1
 4px; font-style: normal; font-variant: normal; font-weight: 400; letter-spa
 cing: normal; orphans: 2; text-align: left; text-decoration: none; text-ind
 ent: 0px; text-transform: none; -webkit-text-stroke-width: 0px; white-space
 : normal; word-spacing: 0px;" /><span style="display: inline !important; fl
 oat: none; background-color: transparent; color: #1d2129; font-family: Helv
 etica,Arial,sans-serif; font-size: 14px; font-style: normal; font-variant: 
 normal; font-weight: 400; letter-spacing: normal; orphans: 2; text-align: l
 eft; text-decoration: none; text-indent: 0px; text-transform: none; -webkit
 -text-stroke-width: 0px; white-space: normal; word-spacing: 0px;">info@tree
 hut-yoga.com</span><br style="background-color: transparent; color: #1d2129
 ; font-family: Helvetica,Arial,sans-serif; font-size: 14px; font-style: nor
 mal; font-variant: normal; font-weight: 400; letter-spacing: normal; orphan
 s: 2; text-align: left; text-decoration: none; text-indent: 0px; text-trans
 form: none; -webkit-text-stroke-width: 0px; white-space: normal; word-spaci
 ng: 0px;" /><a style="background-color: transparent; color: #365899; cursor
 : pointer; font-family: Helvetica,Arial,sans-serif; font-size: 14px; font-s
 tyle: normal; font-variant: normal; font-weight: 400; letter-spacing: norma
 l; orphans: 2; text-align: left; text-decoration: none; text-indent: 0px; t
 ext-transform: none; -webkit-text-stroke-width: 0px; white-space: normal; w
 ord-spacing: 0px;" href="https://l.facebook.com/l.php?u=http%3A%2F%2Fwww.tr
 eehut-yoga.com%2F%3Ffbclid%3DIwAR1b45P0DqAkckhq4ewQUD7SSxPD3T8KjuqjVcleOiMn
 78Vg7iLY6-CpABw&amp;h=AT1YMYWG1jd_o095b2NZ4UHOE91QY9saRcGnuS_UJHKY4F7YoZgmP
 5FxhQ3Qr7xHnQdiHlOvs7Q9XV140p164ng2cbgeyYUswiuymEUJZ_WZnG8DecvmTyI1b7RuwPIo
 gA" target="_blank" rel="nofollow noopener noreferrer" data-lynx-mode="hove
 r">www.treehut-yoga.com</a></p>
CONTACT:www.treehut-yoga.com
X-EXTRAINFO:[preis='1500'][anmeldung='false']
DTSTAMP:20260424T132419
DTSTART:20190108T083000
DTEND:20190108T094500
SEQUENCE:0
RRULE:FREQ=WEEKLY;UNTIL=20190130T000000Z;INTERVAL=1;BYDAY=TU
TRANSP:OPAQUE
END:VEVENT
END:VCALENDAR