BEGIN:VCALENDAR
VERSION:2.0
PRODID:-//jEvents 2.0 for Joomla//EN
CALSCALE:GREGORIAN
METHOD:PUBLISH
BEGIN:VEVENT
UID:282b84eb373eb585291e7683de9a31f0
CATEGORIES:2. Bezirk
CREATED:20181219T104015
SUMMARY:Baby Shiatsu Schnupper Stunde
LOCATION:Nachbarschaftszentrum 1020 Wien\, Vorgartenstraße 145-157
DESCRIPTION:Baby Shiatsu Schnupper Stunde für Babys zwischen ca. 10 Wochen und ca. 6- 7
  Monaten (vor dem Krabbeln!)\nLiebevolle Berührung gibt Geborgenheit und sc
 hafft Vertrauen. Die Verbindung zwischen Eltern und Kind wird gefestigt, de
 m Baby wird dabei geholfen die Welt zu entdecken.\nDie Entwicklung des Kind
 es, sein Vertrauen in die Welt und sein Selbstbewusstsein bauen darauf auf,
  wie es sein erstes Lebensjahr erlebt . Fühlt es sich sicher und geborgen, 
 wurden seine Grundbedürfnisse gestillt, steht es auf einem stabilen Fundame
 nt für die Zukunft\nMit Baby Shiatsu können Eltern das Baby von Anfang an l
 iebevoll begleiten und unterstützen – z.b. beim Zahnen, Verdauen, Schlafen,
  Beruhigen!\nIn dieser Stunde werden wissenschaftliche Erkenntnisse sowohl 
 aus der westlichen als auch aus der östlichen Entwicklungsphilosophie vermi
 ttelt sowie einfache Behandlungstechnikern zur Anwendung daheim.\nDiese Ken
 nenlern-Stunde richtet sich an Eltern/Großeltern mit Kindern zwischen ca. 1
 0 Wochen und 6-7 Monaten (vor dem Krabbeln!).\nTermin:Freitag 1. März 2019,
  09.30-10.30\nKursort: Nachbarschaftszentrum 1020 Wien, Vorgartenstraße 145
 -157\nKosten: Vom NSZ wird ein geringer UKB eingehoben\nKursleitung: Monika
  Kudernatsch ist diplomiete Hara Shiatsu Praktikerin, Aceki Baby Shiatsu Pr
 aktikerin, Samurai Shiatsu Trainerin, Kinder Yoga Lehrerin\nInformation und
  Anmeldung: monika@hands-of-change.at (mailto:monika@hands-of-change.at), w
 ww.hands-of-change.at (http://www.hands-of-change.at)\n
X-ALT-DESC;FMTTYPE=text/html:<p><strong><u>Baby Shiatsu Schnupper Stunde für Babys zwischen ca. 10 Woche
 n und ca. 6- 7 Monaten (vor dem Krabbeln!)</u></strong></p><p>Liebevolle Be
 rührung gibt Geborgenheit und schafft Vertrauen. Die Verbindung zwischen El
 tern und Kind wird gefestigt, dem Baby wird dabei geholfen die Welt zu entd
 ecken.</p><p>Die Entwicklung des Kindes, sein Vertrauen in die Welt und sei
 n Selbstbewusstsein bauen darauf auf, wie es sein erstes Lebensjahr erlebt 
 . Fühlt es sich sicher und geborgen, wurden seine Grundbedürfnisse gestillt
 , steht es auf einem stabilen Fundament für die Zukunft</p><p>Mit Baby Shia
 tsu können Eltern das Baby von Anfang an liebevoll begleiten und unterstütz
 en – z.b. beim Zahnen, Verdauen, Schlafen, Beruhigen!</p><p>In dieser Stund
 e werden wissenschaftliche Erkenntnisse sowohl aus der westlichen als auch 
 aus der östlichen Entwicklungsphilosophie vermittelt sowie einfache Behandl
 ungstechnikern zur Anwendung daheim.</p><p>Diese Kennenlern-Stunde richtet 
 sich an Eltern/Großeltern mit Kindern zwischen ca. 10 Wochen und 6-7 Monate
 n (vor dem Krabbeln!).</p><p>Termin:Freitag 1. März 2019, 09.30-10.30</p><p
 >Kursort: Nachbarschaftszentrum 1020 Wien, Vorgartenstraße 145-157</p><p>Ko
 sten: Vom NSZ wird ein geringer UKB eingehoben</p><p>Kursleitung: Monika Ku
 dernatsch ist diplomiete Hara Shiatsu Praktikerin, Aceki Baby Shiatsu Prakt
 ikerin, Samurai Shiatsu Trainerin, Kinder Yoga Lehrerin</p><p>Information u
 nd Anmeldung: <a href="mailto:monika@hands-of-change.at">monika@hands-of-ch
 ange.at</a>, <a href="http://www.hands-of-change.at">www.hands-of-change.at
 </a></p>
CONTACT:monika@hands-of-change.at, www.hands-of-change.at
X-EXTRAINFO:[preis='000'][anmeldung='true']
DTSTAMP:20260423T182446
DTSTART:20190301T083000
DTEND:20190301T093000
SEQUENCE:0
TRANSP:OPAQUE
END:VEVENT
END:VCALENDAR