BEGIN:VCALENDAR
VERSION:2.0
PRODID:-//jEvents 2.0 for Joomla//EN
CALSCALE:GREGORIAN
METHOD:PUBLISH
BEGIN:VEVENT
UID:c32b5c961a01ffe1fbbe4f7904462d03
CATEGORIES:2. Bezirk
CREATED:20181219T111326
SUMMARY:3-wöchiger Baby Shiatsu Kurs
LOCATION: Räumlichkeiten von Elmiras Bio-Laden\, 1. Stock\, Vorgartenstraße 129\, 10
 20 Wien
DESCRIPTION:3-wöchiger Baby Shiatsu Kurs für Kinder zwischen ca. 10 Wochen und 6-7 Mona
 ten (vor dem Krabbeln)\nLiebevolle Berührung gibt Geborgenheit und schafft 
 Vertrauen. Die Verbindung zwischen Eltern und Kind wird gefestigt, dem Baby
  wird dabei geholfen die Welt zu entdecken.\nDie Entwicklung des Kindes, se
 in Vertrauen in die Welt und sein Selbstbewusstsein bauen darauf auf, wie e
 s sein erstes Lebensjahr erlebt . Fühlt es sich sicher und geborgen, wurden
  seine Grundbedürfnisse gestillt, steht es auf einem stabilen Fundament für
  die Zukunft\nMit Baby Shiatsu können Eltern das Baby von Anfang an liebevo
 ll begleiten und unterstützen – z.b. beim Zahnen, Verdauen, Schlafen, Beruh
 igen!\nDer Kurs richtet sich also an Eltern/Großeltern mit Kindern zwischen
  ca. 10 Wochen und 6-7 Monaten (vor dem Krabbeln!) – Für Krabbelkinder gibt
  es im November einen eigenen Kurs!\nKurstermine:Jeweils Donnerstag 14.3., 
 21.3., und 28.3. immer von 10-11h\nKursort: : In den Räumlichkeiten von Elm
 iras Bio-Laden, 1. Stock, Vorgartenstraße 129, 1020 Wien\nKurskosten: € 60,
 - für alle 3 Termine inklusive Skript\nKursleitung: Monika Kudernatsch ist 
 diplomiere Hara Shiatsu Praktikerin, Aceki Baby Shiatsu Praktikerin, Samura
 i Shiatsu Trainerin, Kinder Yoga Lehrerin.\nInformation und Anmeldung: moni
 ka@hands-of-change.at (mailto:monika@hands-of-change.at), www.hands-of-chan
 ge.at (http://www.hands-of-change.at)\n \n
X-ALT-DESC;FMTTYPE=text/html:<p><strong><u>3-wöchiger Baby Shiatsu Kurs für Kinder zwischen ca. 10 Woche
 n und 6-7 Monaten (vor dem Krabbeln)</u></strong></p><p>Liebevolle Berührun
 g gibt Geborgenheit und schafft Vertrauen. Die Verbindung zwischen Eltern u
 nd Kind wird gefestigt, dem Baby wird dabei geholfen die Welt zu entdecken.
 </p><p>Die Entwicklung des Kindes, sein Vertrauen in die Welt und sein Selb
 stbewusstsein bauen darauf auf, wie es sein erstes Lebensjahr erlebt . Fühl
 t es sich sicher und geborgen, wurden seine Grundbedürfnisse gestillt, steh
 t es auf einem stabilen Fundament für die Zukunft</p><p>Mit Baby Shiatsu kö
 nnen Eltern das Baby von Anfang an liebevoll begleiten und unterstützen – z
 .b. beim Zahnen, Verdauen, Schlafen, Beruhigen!</p><p>Der Kurs richtet sich
  also an Eltern/Großeltern mit Kindern zwischen ca. 10 Wochen und 6-7 Monat
 en (vor dem Krabbeln!) – Für Krabbelkinder gibt es im November einen eigene
 n Kurs!</p><p>Kurstermine:Jeweils Donnerstag 14.3., 21.3., und 28.3. immer 
 von 10-11h</p><p>Kursort: : In den Räumlichkeiten von Elmiras Bio-Laden, 1.
  Stock, Vorgartenstraße 129, 1020 Wien</p><p>Kurskosten: € 60,- für alle 3 
 Termine inklusive Skript</p><p>Kursleitung: Monika Kudernatsch ist diplomie
 re Hara Shiatsu Praktikerin, Aceki Baby Shiatsu Praktikerin, Samurai Shiats
 u Trainerin, Kinder Yoga Lehrerin.</p><p>Information und Anmeldung: <a href
 ="mailto:monika@hands-of-change.at">monika@hands-of-change.at</a>, <a href=
 "http://www.hands-of-change.at">www.hands-of-change.at</a></p><p> </p>
CONTACT:monika@hands-of-change.at, www.hands-of-change.at
X-EXTRAINFO:[preis='6000'][anmeldung='true']
DTSTAMP:20260423T182353
DTSTART:20190314T090000
DTEND:20190314T100000
SEQUENCE:0
TRANSP:OPAQUE
END:VEVENT
END:VCALENDAR