BEGIN:VCALENDAR
VERSION:2.0
PRODID:-//jEvents 2.0 for Joomla//EN
CALSCALE:GREGORIAN
METHOD:PUBLISH
BEGIN:VEVENT
UID:8ebe88629db4dcb25fbcd12efa856ea2
CATEGORIES:23. Bezirk
CREATED:19700101T010000
SUMMARY:Offene Eltern-Kind-Gruppe "Rabennesterl"
LOCATION:1230 Wien\, Kanitzgasse 1-3
DESCRIPTION:Das Rabennesterl ist eine geleitete Eltern-Kind-Gruppe, die sich zum Ziel g
 emacht hat, Eltern mit Babys und Kleinkindern (0-2 Jahre) zu unterstützen. 
 Die Eltern stehen dabei im Mittelpunkt.\n \nEin Kind zu bekommen ist etwas 
 Wunderschönes. Gleichzeitig gibt es neben den positiven Emotionen, auch Gef
 ühle, die belastend sein können.\n \nUnser Ziel ist es einen Raum zu schaff
 en, wo Eltern über all das sprechen können, was ihnen am Herzen liegt. In u
 nserer Gruppe gibt es wöchentlich andere Themen, die die TeilnehmerInnen in
 teressieren oder einfach nur einen offenen Austausch. \n \n \n15 Euro / Tre
 ffen \n60 Euro / 5er Block\n \n \nWeitere Informationen &amp; laufende Them
 en findest du unter: \n \nwww.rabennesterl.at \n 
X-ALT-DESC;FMTTYPE=text/html:<p>Das Rabennesterl ist eine geleitete Eltern-Kind-Gruppe, die sich zum Zie
 l gemacht hat, Eltern mit Babys und Kleinkindern (0-2 Jahre) zu unterstütze
 n. Die Eltern stehen dabei im Mittelpunkt.</p><p> </p><p>Ein Kind zu bekomm
 en ist etwas Wunderschönes. Gleichzeitig gibt es neben den positiven Emotio
 nen, auch Gefühle, die belastend sein können.</p><p> </p><p style="text-ali
 gn: center;"><strong>Unser Ziel ist es einen Raum zu schaffen, wo Eltern üb
 er all das sprechen können, was ihnen am Herzen liegt. In unserer Gruppe gi
 bt es wöchentlich andere Themen, die die TeilnehmerInnen interessieren oder
  einfach nur einen offenen Austausch. </strong></p><p> </p><p> </p><p><stro
 ng>15 Euro / Treffen </strong></p><p><strong>60 Euro / 5er Block</strong></
 p><p> </p><p> </p><p>Weitere Informationen &amp; laufende Themen findest du
  unter: </p><p> </p><p><strong>www.rabennesterl.at </strong></p><h3> </h3>
CONTACT: 0676 953 3770 
X-EXTRAINFO:[preis='1500'][anmeldung='true']
DTSTAMP:20260425T141613
DTSTART:20190204T083000
DTEND:20190204T100000
SEQUENCE:0
RRULE:FREQ=WEEKLY;COUNT=20;INTERVAL=1;BYDAY=MO,MO,MO,MO,MO
TRANSP:OPAQUE
END:VEVENT
END:VCALENDAR