BEGIN:VCALENDAR
VERSION:2.0
PRODID:-//jEvents 2.0 for Joomla//EN
CALSCALE:GREGORIAN
METHOD:PUBLISH
BEGIN:VEVENT
UID:c27ae3bed8535d3eb95929e6d6f336b5
CATEGORIES:5. Bezirk
CREATED:20181219T195358
SUMMARY:Spielgruppe Montessori 2-36 Monate im ILSA
LOCATION:ILSA\, Straußengasse 14\, 1050 Wien
DESCRIPTION:<p>Die Kinder in den Montessori-Spielgruppen sind eingeladen die Montessori
 -Materialien in der <strong>sorgfältig und liebevoll Vorbereiteten Umgebung
 </strong> für sich zu entdecken und reichlich damit zu experimentieren.</p>
 <p>Eine Montessori-Pädagogin mit international anerkannter Ausbildung begle
 itet die Spielgruppen. Sie werden durch gezieltes Beobachten in der Vorbere
 iteten Umgebung ganz neue Facetten an Ihrem Kind entdecken.</p><p>Das <stro
 ng>gemeinsame Essen </strong>wird bei uns jedes Mal gefeiert. Eine gesunde 
 Jause in friedlicher Atmosphäre ist für die Kinder ein soziales Erlebnis.</
 p><p>Zum Abschluss gibt es noch einen gemeinsamen Kreis, in dem <strong><em
 >gesungen und getanzt wird, sowie Fingerspiele und Kniereiter</em> </strong
 >eingebracht werden, welche große Freude bereiten und auch die Sprachentwic
 klung ihres Kindes positiv unterstützen.</p><p> </p><p> </p><p> </p><p>Weit
 ere Informationen und sämtliche Termine finden sie unter:  <a href="http://
 www.ilsa.at">www.ilsa.at</a></p><p>10er Block, 5er Block oder Einzeleinheit
 en buchbar, Einstieg jederzeit möglich.</p>
CONTACT:Sabine Hasenhütl - Tel: 0660 913 53 74 oder sh@ilsa.at
X-EXTRAINFO:[preis='2500'][anmeldung='true']
DTSTAMP:20260425T120558
DTSTART:20190125T074500
DTEND:20190125T091500
SEQUENCE:0
TRANSP:OPAQUE
END:VEVENT
END:VCALENDAR