BEGIN:VCALENDAR
VERSION:2.0
PRODID:-//jEvents 2.0 for Joomla//EN
CALSCALE:GREGORIAN
METHOD:PUBLISH
BEGIN:VEVENT
UID:eafbfc68a60a5b0e90202c1da791050a
CATEGORIES:5. Bezirk
CREATED:20181219T195907
SUMMARY:Mimi Klecks trifft Maria Montessori
LOCATION:ILSA\, Straußengasse 14\, 1050 Wien
DESCRIPTION:Die Kinder in dieser Spielgruppe sind eingeladen einerseits die Montessori-
 Materialien in der sorgfältig und liebevoll Vorbereiteten Umgebung für sich
  zu entdecken, sowie sich ausgiebig im Kreativatelier mit Farben und andere
 n Materialien künstlerisch zu betätigen. Eine Montessori-Pädagogin und eine
  Maltherapeutin begleiten die Kinder in ihrem Tun.\nBeim Spiel mit den Mont
 essori Materialien werden Sie durch gezieltes Beobachten in der Vorbereitet
 en Umgebung ganz neue Facetten an Ihrem Kind entdecken.\nIn ihrer grenzenlo
 sen Entdeckerfreude werden die Kinder unterstützt, nach Lust und Laune mit 
 Händen, Pinseln, Schwämmen oder anderen Hilfsmitteln in ihrem Rhythmus zu k
 ritzeln, malen und matschen oder mit Ton zu experimentieren und dabei ihre 
 Sinneswahrnehmungen und ihre Feinmotorik zu fördern.\nDas gemeinsame Essen 
 wird bei uns jedes Mal gefeiert. Eine gesunde Jause in friedlicher Atmosphä
 re ist für die Kinder ein soziales Erlebnis. Zum Abschluss gibt es noch ein
 en gemeinsamen Kreis, in dem gesungen und getanzt wird, sowie Fingerspiele 
 und Kniereiter eingebracht werden, welche große Freude bereiten und auch di
 e Sprachentwicklung ihres Kindes positiv unterstützen.\n\nWeitere Informati
 onen und Termine unter www.ilsa.at (http://www.ilsa.at)\nEin Einstieg ist j
 ederzeit möglich. Sie können 10er, 5er-Blöcke oder Einzeleinheiten buchen.\
 n
X-ALT-DESC;FMTTYPE=text/html:<p>Die Kinder in dieser Spielgruppe sind eingeladen einerseits die Montesso
 ri-Materialien in der sorgfältig und liebevoll Vorbereiteten Umgebung für s
 ich zu entdecken, sowie sich ausgiebig im Kreativatelier mit Farben und and
 eren Materialien künstlerisch zu betätigen. Eine Montessori-Pädagogin und e
 ine Maltherapeutin begleiten die Kinder in ihrem Tun.</p><p>Beim Spiel mit 
 den Montessori Materialien werden Sie durch gezieltes Beobachten in der Vor
 bereiteten Umgebung ganz neue Facetten an Ihrem Kind entdecken.</p><p>In ih
 rer grenzenlosen Entdeckerfreude werden die Kinder unterstützt, nach Lust u
 nd Laune mit Händen, Pinseln, Schwämmen oder anderen Hilfsmitteln in ihrem 
 Rhythmus zu kritzeln, malen und matschen oder mit Ton zu experimentieren un
 d dabei ihre Sinneswahrnehmungen und ihre Feinmotorik zu fördern.</p><p>Das
  gemeinsame Essen wird bei uns jedes Mal gefeiert. Eine gesunde Jause in fr
 iedlicher Atmosphäre ist für die Kinder ein soziales Erlebnis. Zum Abschlus
 s gibt es noch einen gemeinsamen Kreis, in dem gesungen und getanzt wird, s
 owie Fingerspiele und Kniereiter eingebracht werden, welche große Freude be
 reiten und auch die Sprachentwicklung ihres Kindes positiv unterstützen.</p
 ><p></p><p>Weitere Informationen und Termine unter <a href="http://www.ilsa
 .at">www.ilsa.at</a></p><p>Ein Einstieg ist jederzeit möglich. Sie können 1
 0er, 5er-Blöcke oder Einzeleinheiten buchen.</p>
CONTACT:Sabine Hasenhütl - Tel: 0660 913 53 74 oder sh@ilsa.at
X-EXTRAINFO:[preis='3000'][anmeldung='true']
DTSTAMP:20260425T153724
DTSTART:20190125T093000
DTEND:20190125T110000
SEQUENCE:0
TRANSP:OPAQUE
END:VEVENT
END:VCALENDAR