BEGIN:VCALENDAR
VERSION:2.0
PRODID:-//jEvents 2.0 for Joomla//EN
CALSCALE:GREGORIAN
METHOD:PUBLISH
BEGIN:VEVENT
UID:6325242e9748bd1033b79eb87cbd6fa9
CATEGORIES:5. Bezirk
CREATED:20181219T200620
SUMMARY:Spielgruppe Montessori 2-36 Monate im ILSA
LOCATION:ILSA\, Straußengasse 14\, 1050 Wien
DESCRIPTION:<p>Die Kinder in den Montessori-Spielgruppen sind eingeladen die Montessori
 -Materialien in der sorgfältig und liebevoll Vorbereiteten Umgebung für sic
 h zu entdecken und reichlich damit zu experimentieren.</p><p>Eine Montessor
 i-Pädagogin mit international anerkannter Ausbildung begleitet die Spielgru
 ppen. Sie werden durch gezieltes Beobachten in der Vorbereiteten Umgebung g
 anz neue Facetten an Ihrem Kind entdecken.</p><p>Das gemeinsame Essen wird 
 bei uns jedes Mal gefeiert. Eine gesunde Jause in friedlicher Atmosphäre is
 t für die Kinder ein soziales Erlebnis.</p><p>Zum Abschluss gibt es noch ei
 nen gemeinsamen Kreis, in dem gesungen und getanzt wird, sowie Fingerspiele
  und Kniereiter eingebracht werden, welche große Freude bereiten und auch d
 ie Sprachentwicklung ihres Kindes positiv unterstützen.</p><p></p><p>Weiter
 e Informationen und Termine finden sie unter <a href="http://www.ilsa.at">w
 ww.ilsa.at</a></p><p>Es besteht die Möglichkeit 10er-Blöcke, 5er Blöcke und
  Einzeleinheiten zu buchen. Ein Einstieg ist jederzeit möglich.</p>
CONTACT:Iliana Dugmedjieva -Tel: 0650 653 46 19 oder id@ilsa.at
X-EXTRAINFO:[preis='2500'][anmeldung='true']
DTSTAMP:20260425T120552
DTSTART:20190108T080000
DTEND:20190108T093000
SEQUENCE:0
TRANSP:OPAQUE
END:VEVENT
END:VCALENDAR