BEGIN:VCALENDAR
VERSION:2.0
PRODID:-//jEvents 2.0 for Joomla//EN
CALSCALE:GREGORIAN
METHOD:PUBLISH
BEGIN:VEVENT
UID:572f78f34d233a6f96ce4080e32b62a7
CATEGORIES:5. Bezirk
CREATED:20181219T200722
SUMMARY:Spielgruppe Montessori 2-36 Monate im ILSA
LOCATION:ILSA\, Straußengasse 14\, 1050 Wien
DESCRIPTION:Die Kinder in den Montessori-Spielgruppen sind eingeladen die Montessori-Ma
 terialien in der sorgfältig und liebevoll Vorbereiteten Umgebung für sich z
 u entdecken und reichlich damit zu experimentieren.\nEine Montessori-Pädago
 gin mit international anerkannter Ausbildung begleitet die Spielgruppen. Si
 e werden durch gezieltes Beobachten in der Vorbereiteten Umgebung ganz neue
  Facetten an Ihrem Kind entdecken.\nDas gemeinsame Essen wird bei uns jedes
  Mal gefeiert. Eine gesunde Jause in friedlicher Atmosphäre ist für die Kin
 der ein soziales Erlebnis.\nZum Abschluss gibt es noch einen gemeinsamen Kr
 eis, in dem gesungen und getanzt wird, sowie Fingerspiele und Kniereiter ei
 ngebracht werden, welche große Freude bereiten und auch die Sprachentwicklu
 ng ihres Kindes positiv unterstützen.\n\nWeitere Informationen und Termine 
 finden sie unter www.ilsa.at (http://www.ilsa.at)\nEs besteht die Möglichke
 it 10er-Blöcke, 5er Blöcke und Einzeleinheiten zu buchen. Ein Einstieg ist 
 jederzeit möglich.\n
X-ALT-DESC;FMTTYPE=text/html:<p>Die Kinder in den Montessori-Spielgruppen sind eingeladen die Montessori
 -Materialien in der sorgfältig und liebevoll Vorbereiteten Umgebung für sic
 h zu entdecken und reichlich damit zu experimentieren.</p><p>Eine Montessor
 i-Pädagogin mit international anerkannter Ausbildung begleitet die Spielgru
 ppen. Sie werden durch gezieltes Beobachten in der Vorbereiteten Umgebung g
 anz neue Facetten an Ihrem Kind entdecken.</p><p>Das gemeinsame Essen wird 
 bei uns jedes Mal gefeiert. Eine gesunde Jause in friedlicher Atmosphäre is
 t für die Kinder ein soziales Erlebnis.</p><p>Zum Abschluss gibt es noch ei
 nen gemeinsamen Kreis, in dem gesungen und getanzt wird, sowie Fingerspiele
  und Kniereiter eingebracht werden, welche große Freude bereiten und auch d
 ie Sprachentwicklung ihres Kindes positiv unterstützen.</p><p></p><p>Weiter
 e Informationen und Termine finden sie unter <a href="http://www.ilsa.at">w
 ww.ilsa.at</a></p><p>Es besteht die Möglichkeit 10er-Blöcke, 5er Blöcke und
  Einzeleinheiten zu buchen. Ein Einstieg ist jederzeit möglich.</p>
CONTACT:Iliana Dugmedjieva -Tel: 0650 653 46 19 oder id@ilsa.at
X-EXTRAINFO:[preis='2500'][anmeldung='true']
DTSTAMP:20260425T134406
DTSTART:20190122T080000
DTEND:20190122T093000
SEQUENCE:0
TRANSP:OPAQUE
END:VEVENT
END:VCALENDAR