BEGIN:VCALENDAR
VERSION:2.0
PRODID:-//jEvents 2.0 for Joomla//EN
CALSCALE:GREGORIAN
METHOD:PUBLISH
BEGIN:VEVENT
UID:fff6b2cf07b7d67bf418c1b05a1d6296
CATEGORIES:5. Bezirk
CREATED:20181219T202059
SUMMARY:Montessori Kleinkind Gruppe - 20-36 Lebensmonat
LOCATION:ILSA - Straußengasse 14\, 1050 Wien
DESCRIPTION:Ihr Kind entdeckt gerade sein ICH und seinen eigenen Willen und somit die W
 elt nochmals ganz neu! Der Raum ist erfüllt mit Leben, interessanten Gegens
 tänden aus dem Alltag und inspirierende Materialien laden zur Selbständigke
 it und zum Entdecken ein.\nDie lustvolle Beschäftigung mit den Materialien 
 unterstützt ihr Kind in der Perfektionierung der Auge-Hand- und Hand-Hand-K
 oordination, der Sprachentwicklung, der Bewegungskoordination, sowie in ihr
 er sozial-emotionalen Kompetenz. Die Kinder erleben sich selbständig und se
 lbstwirksam, das führt zur Stärkung des Selbstvertrauens. Wir bereiten geme
 insam mit den Kindern die Jause vor – schneiden und schälen Obst und Gemüse
  und streichen Brote. Nach der Jause wird Geschirr abgewaschen und die Tisc
 he werden gesäubert. Sprach- und Bewegungsspiele, Musik und Kunst ergänzen 
 die Spielmöglichkeiten. Wir laden sie ein ihr Kind bei seinem Tun zu beobac
 hten und sie werden staunen wie kreativ, geschickt und freudvoll die Kinder
  sind.\n\nWeitere Informationen und Termine finden sie unter www.ilsa.at (h
 ttp://www.ilsa.at)\n10er Blöcke, 5er Blöcke oder Einzeleinheiten buchbar. E
 instieg jederzeit möglich!\n
X-ALT-DESC;FMTTYPE=text/html:<p>Ihr Kind entdeckt gerade sein ICH und seinen eigenen Willen und somit di
 e Welt nochmals ganz neu! Der Raum ist erfüllt mit Leben, interessanten Geg
 enständen aus dem Alltag und inspirierende Materialien laden zur Selbständi
 gkeit und zum Entdecken ein.</p><p>Die lustvolle Beschäftigung mit den Mate
 rialien unterstützt ihr Kind in der Perfektionierung der Auge-Hand- und Han
 d-Hand-Koordination, der Sprachentwicklung, der Bewegungskoordination, sowi
 e in ihrer sozial-emotionalen Kompetenz. Die Kinder erleben sich selbständi
 g und selbstwirksam, das führt zur Stärkung des Selbstvertrauens. Wir berei
 ten gemeinsam mit den Kindern die Jause vor – schneiden und schälen Obst un
 d Gemüse und streichen Brote. Nach der Jause wird Geschirr abgewaschen und 
 die Tische werden gesäubert. Sprach- und Bewegungsspiele, Musik und Kunst e
 rgänzen die Spielmöglichkeiten. Wir laden sie ein ihr Kind bei seinem Tun z
 u beobachten und sie werden staunen wie kreativ, geschickt und freudvoll di
 e Kinder sind.</p><p></p><p>Weitere Informationen und Termine finden sie un
 ter <a href="http://www.ilsa.at">www.ilsa.at</a></p><p>10er Blöcke, 5er Blö
 cke oder Einzeleinheiten buchbar. Einstieg jederzeit möglich!</p>
CONTACT:Iliana Dugmedjieva -Tel: 0650 653 46 19 oder id@ilsa.at
X-EXTRAINFO:[preis='2500'][anmeldung='true']
DTSTAMP:20260425T155607
DTSTART:20190130T143000
DTEND:20190130T160000
SEQUENCE:0
TRANSP:OPAQUE
END:VEVENT
END:VCALENDAR