BEGIN:VCALENDAR
VERSION:2.0
PRODID:-//jEvents 2.0 for Joomla//EN
CALSCALE:GREGORIAN
METHOD:PUBLISH
BEGIN:VEVENT
UID:7d41984f701fcbb4fb240e0dd2781f16
CATEGORIES:5. Bezirk
CREATED:20181219T203138
SUMMARY:Spielgruppe Montessori 2-36 Monate im ILSA
LOCATION:ILSA\, Straußengasse 14\, 1050 Wien
DESCRIPTION:Die Kinder in den Montessori-Spielgruppen sind eingeladen die Montessori-Ma
 terialien in der sorgfältig und liebevoll Vorbereiteten Umgebung für sich z
 u entdecken und reichlich damit zu experimentieren.\nEine Montessori-Pädago
 gin mit international anerkannter Ausbildung begleitet die Spielgruppen. Si
 e werden durch gezieltes Beobachten in der Vorbereiteten Umgebung ganz neue
  Facetten an Ihrem Kind entdecken.\nDas gemeinsame Essen wird bei uns jedes
  Mal gefeiert. Eine gesunde Jause in friedlicher Atmosphäre ist für die Kin
 der ein soziales Erlebnis.\nZum Abschluss gibt es noch einen gemeinsamen Kr
 eis, in dem gesungen und getanzt wird, sowie Fingerspiele und Kniereiter ei
 ngebracht werden, welche große Freude bereiten und auch die Sprachentwicklu
 ng ihres Kindes positiv unterstützen.\n \n \n \nWeitere Informationen und s
 ämtliche Termine finden sie unter:  www.ilsa.at (http://www.ilsa.at)\n10er 
 Block, 5er Block oder Einzeleinheiten buchbar, Einstieg jederzeit möglich.\
 n
X-ALT-DESC;FMTTYPE=text/html:<p>Die Kinder in den Montessori-Spielgruppen sind eingeladen die Montessori
 -Materialien in der <strong>sorgfältig und liebevoll Vorbereiteten Umgebung
 </strong> für sich zu entdecken und reichlich damit zu experimentieren.</p>
 <p>Eine Montessori-Pädagogin mit international anerkannter Ausbildung begle
 itet die Spielgruppen. Sie werden durch gezieltes Beobachten in der Vorbere
 iteten Umgebung ganz neue Facetten an Ihrem Kind entdecken.</p><p>Das <stro
 ng>gemeinsame Essen </strong>wird bei uns jedes Mal gefeiert. Eine gesunde 
 Jause in friedlicher Atmosphäre ist für die Kinder ein soziales Erlebnis.</
 p><p>Zum Abschluss gibt es noch einen gemeinsamen Kreis, in dem <strong><em
 >gesungen und getanzt wird, sowie Fingerspiele und Kniereiter</em> </strong
 >eingebracht werden, welche große Freude bereiten und auch die Sprachentwic
 klung ihres Kindes positiv unterstützen.</p><p> </p><p> </p><p> </p><p>Weit
 ere Informationen und sämtliche Termine finden sie unter:  <a href="http://
 www.ilsa.at">www.ilsa.at</a></p><p>10er Block, 5er Block oder Einzeleinheit
 en buchbar, Einstieg jederzeit möglich.</p>
CONTACT:Sabine Hasenhütl - Tel: 0660 913 53 74 oder sh@ilsa.at
X-EXTRAINFO:[preis='2500'][anmeldung='true']
DTSTAMP:20260425T134453
DTSTART:20190315T074500
DTEND:20190315T091500
SEQUENCE:0
TRANSP:OPAQUE
END:VEVENT
END:VCALENDAR