BEGIN:VCALENDAR
VERSION:2.0
PRODID:-//jEvents 2.0 for Joomla//EN
CALSCALE:GREGORIAN
METHOD:PUBLISH
BEGIN:VEVENT
UID:f493718f880b50d0ed7f92d6bdf3d770
CATEGORIES:6. Bezirk
CREATED:19700101T010000
SUMMARY:Babymassagekurs
LOCATION:Gleichgewicht Praxis – Dürergasse 6\, 1060 Wien (U4 Kettenbrückengasse)
DESCRIPTION:Babymassage ermöglicht nicht nur Bindungs- und Beziehungsförderung sondern 
 ist auch eine wohltuende Berührung und Interaktion, die sich positiv auf vi
 ele Bereiche im Leben deines Kindes auswirkt.\nEs werden die Sinne angeregt
 , das Körpergefühl und die Wahrnehmung werden gefördert. Regelmäßige Massag
 e kann das körperliche Wohlbefinden, Blähungen, Schlafrhythmus und das Immu
 nsystem positiv beeinflussen.\n \nDer Babymassagekurs findet in einer Klein
 gruppe mit 3-5 Teilnehmern statt und umfasst drei Einheiten zu je 60 Minute
 n.\n\nKosten: € 75,- inkl. Skript &amp; hochwertigem Massageöl\nOrt: Gleich
 gewicht Praxis – Dürergasse 6, 1060 Wien (U4 Kettenbrückengasse)\n\nKurs Ja
 nuar 2019\nMontag, 21.01.2019\nMontag, 28.01.2019\nMontag, 04.02.2019\n\nSt
 art jeweils um 09:30 UhrAnmeldung unter:\nwww.kia-ora.at (http://www.kia-or
 a.at)\nkontakt@kio-ora.at (mailto:kontakt@kio-ora.at)\n \nBianca Knittl\n06
 509579426\n
X-ALT-DESC;FMTTYPE=text/html:<p>Babymassage ermöglicht nicht nur Bindungs- und Beziehungsförderung sonde
 rn ist auch eine wohltuende Berührung und Interaktion, die sich positiv auf
  viele Bereiche im Leben deines Kindes auswirkt.</p><p>Es werden die Sinne 
 angeregt, das Körpergefühl und die Wahrnehmung werden gefördert. Regelmäßig
 e Massage kann das körperliche Wohlbefinden, Blähungen, Schlafrhythmus und 
 das Immunsystem positiv beeinflussen.</p><p> </p><p>Der Babymassagekurs fin
 det in einer Kleingruppe mit 3-5 Teilnehmern statt und umfasst drei Einheit
 en zu je 60 Minuten.</p><div class="_63eu"><div class="_63ew" data-testid="
 event-permalink-details"><br />Kosten: € 75,- inkl. Skript &amp; hochwertig
 em Massageöl<br />Ort: Gleichgewicht Praxis – Dürergasse 6, 1060 Wien (U4 K
 ettenbrückengasse)<br /><br />Kurs Januar 2019<br />Montag, 21.01.2019<br /
 >Montag, 28.01.2019<br />Montag, 04.02.2019<br /><br />Start jeweils um 09:
 30 Uhr</div></div><div class="text_exposed_show"><p>Anmeldung unter:</p><p>
 <span class="_5mfr"><span class="_6qdm"><a href="http://www.kia-ora.at">www
 .kia-ora.at</a></span></span></p><p><span class="_5mfr"><span class="_6qdm"
 ><a href="mailto:kontakt@kio-ora.at">kontakt@kio-ora.at</a></span></span></
 p><p> </p><p><span class="_5mfr"><span class="_6qdm">Bianca Knittl</span></
 span></p><p><span class="_5mfr"><span class="_6qdm">06509579426</span></spa
 n></p></div>
CONTACT:kontakt@kia-ora.at , https://www.kia-ora.at/kontakt/
X-EXTRAINFO:[preis='7500'][anmeldung='true']
DTSTAMP:20260423T152715
DTSTART:20190121T083000
DTEND:20190121T090000
SEQUENCE:0
RRULE:FREQ=WEEKLY;COUNT=2;INTERVAL=1;BYDAY=MO,MO,MO,MO,MO
TRANSP:OPAQUE
END:VEVENT
END:VCALENDAR