BEGIN:VCALENDAR
VERSION:2.0
PRODID:-//jEvents 2.0 for Joomla//EN
CALSCALE:GREGORIAN
METHOD:PUBLISH
BEGIN:VEVENT
UID:68be33d3bf84b1b56bf283d1a097d2df
CATEGORIES:7. Bezirk
CREATED:19700101T010000
SUMMARY:MALEN UND GESTALTEN FÜR ELTERN UND KINDER VON 1½ BIS 3½ JAHREN
LOCATION:Löhrgasse 10
DESCRIPTION:…Begeistertes Tun steht hier im Vordergrund. Wer Lust hat, …mit viel Vergnü
 gen und Freude am Experimentieren zu malen, mischen, drucken oder stempeln,
  …bunte Farben leuchten zu lassen, …Bilder zu streuen, zu kleben, zu schnei
 den, zu schütten, …mit Rasierschaum zu patzen, …bunte Nudeln zu fädeln,, … 
 Figuren, Objekte, Landschaften aus Verpackungsmaterial zu stecken und bauen
 ,…\n…das Kleben, Reißen, Schneiden, Schütten, Kneten und Formen macht in ei
 ner vertrauten Gruppe noch mehr Spaß. Das gemeinsame Arbeiten mit dem Kind 
 eröffnet auch den Erwachsenen neue Zugänge zur eigenen Kreativität.\n…im Wi
 nter gemeinsam malen, werken,  basteln:  ….Weiß &amp; Schwarz &amp; Kunterb
 unt malen,… Flocken drucken &amp; stempeln, …  Faschingschlangen schneiden,
  Konfetti streuen,… Winter-Weißes fädeln und stecken,…. Hüte, Frisuren, Mas
 ken basteln,…\nKursleitung: Ulli Buchinger\n
X-ALT-DESC;FMTTYPE=text/html:<p>…Begeistertes Tun steht hier im Vordergrund. Wer Lust hat, …mit viel Ver
 gnügen und Freude am Experimentieren zu malen, mischen, drucken oder stempe
 ln, …bunte Farben leuchten zu lassen, …Bilder zu streuen, zu kleben, zu sch
 neiden, zu schütten, …mit Rasierschaum zu patzen, …bunte Nudeln zu fädeln,,
  … Figuren, Objekte, Landschaften aus Verpackungsmaterial zu stecken und ba
 uen,…<br />…das Kleben, Reißen, Schneiden, Schütten, Kneten und Formen mach
 t in einer vertrauten Gruppe noch mehr Spaß. Das gemeinsame Arbeiten mit de
 m Kind eröffnet auch den Erwachsenen neue Zugänge zur eigenen Kreativität.<
 /p><p>…im Winter gemeinsam malen, werken,  basteln:  ….Weiß &amp; Schwarz &
 amp; Kunterbunt malen,… Flocken drucken &amp; stempeln, …  Faschingschlange
 n schneiden, Konfetti streuen,… Winter-Weißes fädeln und stecken,…. Hüte, F
 risuren, Masken basteln,…</p><p>Kursleitung: Ulli Buchinger</p>
CONTACT:office@kinderatelier.at
X-EXTRAINFO:[preis='5500'][anmeldung='true']
DTSTAMP:20260425T134521
DTSTART:20190107T143000
DTEND:20190107T160000
SEQUENCE:0
RRULE:FREQ=WEEKLY;COUNT=3;INTERVAL=1;BYDAY=MO
TRANSP:OPAQUE
END:VEVENT
END:VCALENDAR