BEGIN:VCALENDAR
VERSION:2.0
PRODID:-//jEvents 2.0 for Joomla//EN
CALSCALE:GREGORIAN
METHOD:PUBLISH
BEGIN:VEVENT
UID:0cbee4ce9045644347ff128dfe04510f
CATEGORIES:7. Bezirk
CREATED:19700101T010000
SUMMARY:TANZ UND SPIEL FÜR ELTERN UND KINDER VON 1 BIS 3 JAHREN
LOCATION:Neubaugürtel 7
DESCRIPTION:……sich miteinander unter Tüchern verstecken, auf großen Bällen rollen, mite
 inander kugeln, purzeln und schaukeln, mit Luftballons spielen, Kisten durc
 h den Raum schieben, im Konfettiregen sitzen, Rhythmus und Musik erleben, u
 nd das alles nicht allein, sondern in der Geborgenheit einer vertrauten Gru
 ppe.\n
X-ALT-DESC;FMTTYPE=text/html:<p>……sich miteinander unter Tüchern verstecken, auf großen Bällen rollen, m
 iteinander kugeln, purzeln und schaukeln, mit Luftballons spielen, Kisten d
 urch den Raum schieben, im Konfettiregen sitzen, Rhythmus und Musik erleben
 , und das alles nicht allein, sondern in der Geborgenheit einer vertrauten 
 Gruppe.</p>
CONTACT:office@kinderatelier.at
X-EXTRAINFO:[preis='5500'][anmeldung='true']
DTSTAMP:20260425T120238
DTSTART:20190109T090000
DTEND:20190109T103000
SEQUENCE:0
RRULE:FREQ=WEEKLY;COUNT=4;INTERVAL=1;BYDAY=WE
TRANSP:OPAQUE
END:VEVENT
END:VCALENDAR