BEGIN:VCALENDAR
VERSION:2.0
PRODID:-//jEvents 2.0 for Joomla//EN
CALSCALE:GREGORIAN
METHOD:PUBLISH
BEGIN:VEVENT
UID:e9a4a0d8c6b0ea75d1bf8fdd69267d22
CATEGORIES:15. Bezirk
CREATED:20190103T211249
SUMMARY:Trage-Treff: Ring Sling
LOCATION:Gablenzgasse 97/25
DESCRIPTION:<p>Der Ring Sling, ein kurzes Tragetuch mit 2 Ringen, ist ein echtes Multit
 alent und eine große Hilfe im Alltag. Schnell angelegt, kannst du dein Kind
  damit vor dem Bauch, auf der Hüfte und sogar am Rücken tragen.<br />Beim T
 rage-Treff zeige ich dir, wie es funktioniert und stehe dir mit Rat und Tat
  zur Seite, wenn du es selbst probieren möchtest.<br />Weiters hast du Gele
 genheit, alle deine Trage-Fragen zu stellen und dich mit anderen Trage-Elte
 rn auszutauschen.</p><p>Ich freue mich auf dich :-)</p><p>Susanna von Koala
  Hugs Trageberatung</p><p><a title="FB" href="facebook.com/koalahugstragebe
 ratung" target="_blank" rel="noopener noreferrer">facebook.com/koalahugstra
 geberatung</a></p>
X-ALT-DESC;FMTTYPE=text/html:<p>Der Ring Sling, ein kurzes Tragetuch mit 2 Ringen, ist ein echtes Multit
 alent und eine große Hilfe im Alltag. Schnell angelegt, kannst du dein Kind
  damit vor dem Bauch, auf der Hüfte und sogar am Rücken tragen.<br />Beim T
 rage-Treff zeige ich dir, wie es funktioniert und stehe dir mit Rat und Tat
  zur Seite, wenn du es selbst probieren möchtest.<br />Weiters hast du Gele
 genheit, alle deine Trage-Fragen zu stellen und dich mit anderen Trage-Elte
 rn auszutauschen.</p><p>Ich freue mich auf dich :-)</p><p>Susanna von Koala
  Hugs Trageberatung</p><p><a title="FB" href="https://babymamas.at/facebook
 .com/koalahugstrageberatung" target="_blank" rel="noopener noreferrer">face
 book.com/koalahugstrageberatung</a></p>
CONTACT:susanna.garic@gmail.com
X-EXTRAINFO:[preis='900'][anmeldung='true']
DTSTAMP:20260425T153210
DTSTART:20190114T100000
DTEND:20190114T110000
SEQUENCE:0
TRANSP:OPAQUE
END:VEVENT
END:VCALENDAR