BEGIN:VCALENDAR
VERSION:2.0
PRODID:-//jEvents 2.0 for Joomla//EN
CALSCALE:GREGORIAN
METHOD:PUBLISH
BEGIN:VEVENT
UID:8995c36c5cb38875a254560fd647eeb2
CATEGORIES:18. Bezirk
CREATED:20190104T092709
SUMMARY:Still- und Austauschgruppe
LOCATION:SPIELRINGEL Mollgasse 11-13
DESCRIPTION:<div class="col-md-pull-6 col-md-6 col-xs-12"><p>Aller Anfang ist schwer - 
 oder doch nicht?</p><p>Um das Stillen ranken sich viele Mythen und dadurch 
 entstehen Ängste. Oft stellen sich werdende Mütter die Frage "Werde ich sti
 llen können?" und werden von Sorgen geplagt, wie "In meiner Familie hatten 
 alle Frauen wenig Milch, das betrifft mich sicherlich auch." oder "Mein Bab
 y will ständig an die Brust, es reicht ihm wohl nicht".</p><p>In dieser Sti
 llgruppe möchte ich frischgebackenen Mamas, aber auch werdenden Mamas die M
 öglichkeit des Austausches geben. Unklarheiten werden besprochen und für eu
 ch individuelle Möglichkeiten gefunden, eine harmonische Stillbeziehung auf
 bauen zu können.</p><p>Sollte es mit dem Stillen nicht so gut klappen, oder
  ihr euch mit dem Thema unwohl fühlen, stehe ich euch selbstverständlich au
 ch gerne jederzeit mit Rat und Tat zur Seite.</p><p><span class="text-prima
 ry">Kurstag: </span><br /> Montag 09:30-11:00 Uhr</p><p><span class="text-p
 rimary">Termine:</span> <br /> 14-tägig mit IBCLC Stillberaterin <a href="h
 ttp://schwangerschaft-elternschaft.at/das-team/nina/">Nina</a></p><p>nächst
 e Termine: 14.1., 28.1., 11.2., 25.2., 11.3., 25.3., 8.4.</p><p><span class
 ="text-primary">Kosten:</span><br /> 10 Euro</p><p><span class="text-primar
 y">Info &amp; Anmeldung:</span><br /> ohne Anmeldung - komm einfach vorbei!
 </p></div>
CONTACT:http://schwangerschaft-elternschaft.at/angebote/beratung-begleitung/still-und-austauschgruppe/ (http://schwangerschaft-elternschaft.at/angebote/beratung-begleitung/still-und-austauschgruppe/)
X-EXTRAINFO:[preis='1000'][anmeldung='false']
DTSTAMP:20260425T135010
DTSTART:20190128T083000
DTEND:20190128T100000
SEQUENCE:0
TRANSP:OPAQUE
END:VEVENT
END:VCALENDAR