BEGIN:VCALENDAR
VERSION:2.0
PRODID:-//jEvents 2.0 for Joomla//EN
CALSCALE:GREGORIAN
METHOD:PUBLISH
BEGIN:VEVENT
UID:e5f6da9148422c40668726548e1256ae
CATEGORIES:18. Bezirk
CREATED:20190104T092836
SUMMARY:Still- und Austauschgruppe
LOCATION:SPIELRINGEL
DESCRIPTION:Aller Anfang ist schwer - oder doch nicht?\nUm das Stillen ranken sich viel
 e Mythen und dadurch entstehen Ängste. Oft stellen sich werdende Mütter die
  Frage "Werde ich stillen können?" und werden von Sorgen geplagt, wie "In m
 einer Familie hatten alle Frauen wenig Milch, das betrifft mich sicherlich 
 auch." oder "Mein Baby will ständig an die Brust, es reicht ihm wohl nicht"
 .\nIn dieser Stillgruppe möchte ich frischgebackenen Mamas, aber auch werde
 nden Mamas die Möglichkeit des Austausches geben. Unklarheiten werden bespr
 ochen und für euch individuelle Möglichkeiten gefunden, eine harmonische St
 illbeziehung aufbauen zu können.\nSollte es mit dem Stillen nicht so gut kl
 appen, oder ihr euch mit dem Thema unwohl fühlen, stehe ich euch selbstvers
 tändlich auch gerne jederzeit mit Rat und Tat zur Seite.\nKurstag: \n Monta
 g 09:30-11:00 Uhr\nTermine: \n 14-tägig mit IBCLC Stillberaterin Nina (http
 ://schwangerschaft-elternschaft.at/das-team/nina/)\nnächste Termine: 14.1.,
  28.1., 11.2., 25.2., 11.3., 25.3., 8.4.\nKosten:\n 10 Euro\nInfo &amp; Anm
 eldung:\n ohne Anmeldung - komm einfach vorbei!\n     \n
X-ALT-DESC;FMTTYPE=text/html:<div id="content" class="main-section"><div class="section section-default"
 ><div class="container"><div class="row"><div id="c383" class="frame frame-
 default frame-type-textpic frame-background- frame-no-backgroundimage frame
 -space-before-none frame-space-after-none"><div class="frame-container"><di
 v class="frame-inner"><div class="row"><div class="col-md-pull-6 col-md-6 c
 ol-xs-12"><p>Aller Anfang ist schwer - oder doch nicht?</p><p>Um das Stille
 n ranken sich viele Mythen und dadurch entstehen Ängste. Oft stellen sich w
 erdende Mütter die Frage "Werde ich stillen können?" und werden von Sorgen 
 geplagt, wie "In meiner Familie hatten alle Frauen wenig Milch, das betriff
 t mich sicherlich auch." oder "Mein Baby will ständig an die Brust, es reic
 ht ihm wohl nicht".</p><p>In dieser Stillgruppe möchte ich frischgebackenen
  Mamas, aber auch werdenden Mamas die Möglichkeit des Austausches geben. Un
 klarheiten werden besprochen und für euch individuelle Möglichkeiten gefund
 en, eine harmonische Stillbeziehung aufbauen zu können.</p><p>Sollte es mit
  dem Stillen nicht so gut klappen, oder ihr euch mit dem Thema unwohl fühle
 n, stehe ich euch selbstverständlich auch gerne jederzeit mit Rat und Tat z
 ur Seite.</p><p><span class="text-primary">Kurstag: </span><br /> Montag 09
 :30-11:00 Uhr</p><p><span class="text-primary">Termine:</span> <br /> 14-tä
 gig mit IBCLC Stillberaterin <a href="http://schwangerschaft-elternschaft.a
 t/das-team/nina/">Nina</a></p><p>nächste Termine: 14.1., 28.1., 11.2., 25.2
 ., 11.3., 25.3., 8.4.</p><p><span class="text-primary">Kosten:</span><br />
  10 Euro</p><p><span class="text-primary">Info &amp; Anmeldung:</span><br /
 > ohne Anmeldung - komm einfach vorbei!</p></div></div></div></div></div></
 div></div></div></div><footer><section class="section footer-section footer
 -section-content"><div class="container"><div class="section-row"><div clas
 s="section-column footer-section-content-column-left"><div id="c202" class=
 "frame frame-default frame-type-list frame-background-none frame-no-backgro
 undimage frame-space-before-none frame-space-after-none"><div class="frame-
 container"><div class="frame-inner"><header><h2 class="element-header "> </
 h2></header><form id="tx_indexedsearch" method="post"><div> </div><div clas
 s="tx-indexedsearch-hidden-fields"> <div id="c251" class="frame frame-defau
 lt frame-type-html frame-background-none frame-no-backgroundimage frame-spa
 ce-before-none frame-space-after-none"> </div></div></form></div></div></di
 v></div></div></div></section></footer><section class="section footer-secti
 on footer-section-content"></section><section class="section section-small 
 footer-section footer-section-meta"><div class="container"><div class="fram
 e frame-small default copyright"><p> </p></div></div></section>
CONTACT:http://schwangerschaft-elternschaft.at/angebote/beratung-begleitung/still-und-austauschgruppe/ (http://schwangerschaft-elternschaft.at/angebote/beratung-begleitung/still-und-austauschgruppe/)
X-EXTRAINFO:[preis='1000'][anmeldung='false']
DTSTAMP:20260425T153724
DTSTART:20190211T083000
DTEND:20190211T100000
SEQUENCE:0
TRANSP:OPAQUE
END:VEVENT
END:VCALENDAR