BEGIN:VCALENDAR
VERSION:2.0
PRODID:-//jEvents 2.0 for Joomla//EN
CALSCALE:GREGORIAN
METHOD:PUBLISH
BEGIN:VEVENT
UID:f79b238f4780852b75c23c251f802632
CATEGORIES:18. Bezirk
CREATED:20190104T093024
SUMMARY:Still- und Austauschgruppe
LOCATION:SPIELRINGEL Mollgasse 11-13
DESCRIPTION:Aller Anfang ist schwer - oder doch nicht?\nUm das Stillen ranken sich viel
 e Mythen und dadurch entstehen Ängste. Oft stellen sich werdende Mütter die
  Frage "Werde ich stillen können?" und werden von Sorgen geplagt, wie "In m
 einer Familie hatten alle Frauen wenig Milch, das betrifft mich sicherlich 
 auch." oder "Mein Baby will ständig an die Brust, es reicht ihm wohl nicht"
 .\nIn dieser Stillgruppe möchte ich frischgebackenen Mamas, aber auch werde
 nden Mamas die Möglichkeit des Austausches geben. Unklarheiten werden bespr
 ochen und für euch individuelle Möglichkeiten gefunden, eine harmonische St
 illbeziehung aufbauen zu können.\nSollte es mit dem Stillen nicht so gut kl
 appen, oder ihr euch mit dem Thema unwohl fühlen, stehe ich euch selbstvers
 tändlich auch gerne jederzeit mit Rat und Tat zur Seite.\nKurstag: \n Monta
 g 09:30-11:00 Uhr\nTermine: \n 14-tägig mit IBCLC Stillberaterin Nina (http
 ://schwangerschaft-elternschaft.at/das-team/nina/)\nnächste Termine: 14.1.,
  28.1., 11.2., 25.2., 11.3., 25.3., 8.4.\nKosten:\n 10 Euro\nInfo &amp; Anm
 eldung:\n ohne Anmeldung - komm einfach vorbei!\n
X-ALT-DESC;FMTTYPE=text/html:<div class="body-bg body-bg-top"><div id="content" class="main-section"><di
 v class="section section-default"><div class="container"><div class="row"><
 div id="c383" class="frame frame-default frame-type-textpic frame-backgroun
 d- frame-no-backgroundimage frame-space-before-none frame-space-after-none"
 ><div class="frame-container"><div class="frame-inner"><div class="row"><di
 v class="col-md-pull-6 col-md-6 col-xs-12"><p>Aller Anfang ist schwer - ode
 r doch nicht?</p><p>Um das Stillen ranken sich viele Mythen und dadurch ent
 stehen Ängste. Oft stellen sich werdende Mütter die Frage "Werde ich stille
 n können?" und werden von Sorgen geplagt, wie "In meiner Familie hatten all
 e Frauen wenig Milch, das betrifft mich sicherlich auch." oder "Mein Baby w
 ill ständig an die Brust, es reicht ihm wohl nicht".</p><p>In dieser Stillg
 ruppe möchte ich frischgebackenen Mamas, aber auch werdenden Mamas die Mögl
 ichkeit des Austausches geben. Unklarheiten werden besprochen und für euch 
 individuelle Möglichkeiten gefunden, eine harmonische Stillbeziehung aufbau
 en zu können.</p><p>Sollte es mit dem Stillen nicht so gut klappen, oder ih
 r euch mit dem Thema unwohl fühlen, stehe ich euch selbstverständlich auch 
 gerne jederzeit mit Rat und Tat zur Seite.</p><p><span class="text-primary"
 >Kurstag: </span><br /> Montag 09:30-11:00 Uhr</p><p><span class="text-prim
 ary">Termine:</span> <br /> 14-tägig mit IBCLC Stillberaterin <a href="http
 ://schwangerschaft-elternschaft.at/das-team/nina/">Nina</a></p><p>nächste T
 ermine: 14.1., 28.1., 11.2., 25.2., 11.3., 25.3., 8.4.</p><p><span class="t
 ext-primary">Kosten:</span><br /> 10 Euro</p><p><span class="text-primary">
 Info &amp; Anmeldung:</span><br /> ohne Anmeldung - komm einfach vorbei!</p
 ></div></div></div></div></div></div></div></div></div></div>
CONTACT:http://schwangerschaft-elternschaft.at/angebote/beratung-begleitung/still-und-austauschgruppe/ (http://schwangerschaft-elternschaft.at/angebote/beratung-begleitung/still-und-austauschgruppe/)
X-EXTRAINFO:[preis='1000'][anmeldung='false']
DTSTAMP:20260425T153803
DTSTART:20190225T083000
DTEND:20190225T100000
SEQUENCE:0
TRANSP:OPAQUE
END:VEVENT
END:VCALENDAR