BEGIN:VCALENDAR
VERSION:2.0
PRODID:-//jEvents 2.0 for Joomla//EN
CALSCALE:GREGORIAN
METHOD:PUBLISH
BEGIN:VEVENT
UID:edd501af0127ca74894688ece6b34827
CATEGORIES:18. Bezirk
CREATED:20190104T094243
SUMMARY:Komm und lerne BabySteps kennen! 
LOCATION:SPIELRINGEL Mollgasse 11-13
DESCRIPTION:BabySteps bietet für dich\n\n - Viele spannende, wissenschaftliche Erkenntn
 isse über die Entwicklung in den ersten Lebensjahren\n\n - Tipps und Tricks
  für einen leichteren Alltag mit deinem Baby\n\n - Austausch mit anderen Mü
 ttern\nBabySteps bietet für dein Baby\n\n - Entwicklung im ersten Lebensjah
 r\n\n - Entwicklungsgerechte Spielanregungen\n\n - Erster Kontakt zu andere
 n Kindern\n \nFür Schwangere und Mamas mit Babys bis 4 Monate!\nAnmeldung e
 rforderlich!\nKosten: 10 Euro (werden bei Kursbuchung gut geschrieben)\nInf
 o &amp; Anmeldung:\n0650 888 2802 oder info@trageberatung-elfimbeutel.at\n 
 \n
X-ALT-DESC;FMTTYPE=text/html:<div id="c410" class="frame frame-default frame-type-text frame-background-
  frame-no-backgroundimage frame-space-before-none frame-space-after-none"><
 div class="frame-container"><div class="frame-inner"><p>BabySteps bietet fü
 r <strong>dich</strong></p><ul class="list-normal"><li><p>Viele spannende, 
 wissenschaftliche Erkenntnisse über die Entwicklung in den ersten Lebensjah
 ren</p></li><li><p>Tipps und Tricks für einen leichteren Alltag mit deinem 
 Baby</p></li><li><p>Austausch mit anderen Müttern</p></li></ul><p>BabySteps
  bietet für <strong>dein Baby</strong></p><ul class="list-normal"><li><p>En
 twicklung im ersten Lebensjahr</p></li><li><p>Entwicklungsgerechte Spielanr
 egungen</p></li><li><p>Erster Kontakt zu anderen Kindern</p></li></ul><p> <
 /p><p>Für Schwangere und Mamas mit Babys bis 4 Monate!</p><p>Anmeldung erfo
 rderlich!</p><p><span class="text-primary">Kosten:</span> 10 Euro (werden b
 ei Kursbuchung gut geschrieben)</p><p><span class="text-primary">Info &amp;
  Anmeldung:</span></p><p>0650 888 2802 oder info@trageberatung-elfimbeutel.
 at</p><p> </p></div></div></div>
CONTACT:http://schwangerschaft-elternschaft.at/angebote/vortraege-workshops/komm-und-lerne-babysteps-kennen/ (http://schwangerschaft-elternschaft.at/angebote/vortraege-workshops/komm-und-lerne-babysteps-kennen/)
X-EXTRAINFO:[preis='1000'][anmeldung='true']
DTSTAMP:20260425T153804
DTSTART:20190117T153000
DTEND:20190117T163000
SEQUENCE:0
TRANSP:OPAQUE
END:VEVENT
END:VCALENDAR