BEGIN:VCALENDAR
VERSION:2.0
PRODID:-//jEvents 2.0 for Joomla//EN
CALSCALE:GREGORIAN
METHOD:PUBLISH
BEGIN:VEVENT
UID:8b5abecd467ae19794c375f1b462bbd3
CATEGORIES:18. Bezirk
CREATED:20190104T094517
SUMMARY: BABY- UND KINDERPFLEGE Hausapotheke und Hautpflegeprodukte selbst gemacht
LOCATION:SPIELRINGEL Mollgasse 11-13
DESCRIPTION:In diesem Workshop dreht sich alles ums Selbermachen. Wir stellen gemeinsam
  duftende Hausmittel her, die bei verschiedensten Wehwehchen unterstützen u
 nd kreieren kostbare Hautpflegeprodukte für unsere Kinder. Außerdem gibt es
  eine kurze Einführung in die Welt der Kräuter, ätherischen Öle und Pflanze
 nwässer und wir bringen in Erfahrung, welche Kräuter und Öle wir für unsere
  Babys und Kinder überhaupt verwenden und wie wir diese zur Stärkung des Wo
 hlbefindens einsetzen können.\n\n THEMEN:\n - Anwendungsmöglichkeiten von K
 räutern, ätherischen Ölen und Pflanzenwässern bei Babys &amp; Kindern\n - K
 räuter, Öle &amp; Pflanzenwässer zur sanften Hautpflege\n - natürliche Haus
 mittel bei verschiedensten Wehwehchen\n\n Was wir gemeinsam herstellen:\n 1
 x Pflege-Balsam (30ml) • 1x Hautpflege-Öl (30 ml) • 1x Badezusatz (30 ml) •
  1x Teemischung (30g)\n \nmit Lisa Dirnbacher, BA von feinfühlen (http://ww
 w.feinfuehlen.at/)\nKosten: € 87,-\n\n Im Preis enthalten: Arbeitsmateriali
 en, Skriptum, Notizheft, Pausensnacks und Getränke\n Eine Teilnahmegebühr v
 on 87 Euro, inkl. MwSt. kann vor Ort bezahlt werden.\n Anmeldungen telefoni
 sch unter 0664 227 07 10 oder per Email unter praxis@feinfuehlen.at\n
X-ALT-DESC;FMTTYPE=text/html:<p>In diesem Workshop dreht sich alles ums Selbermachen. Wir stellen gemein
 sam duftende Hausmittel her, die bei verschiedensten Wehwehchen unterstütze
 n und kreieren kostbare Hautpflegeprodukte für unsere Kinder. Außerdem gibt
  es eine kurze Einführung in die Welt der Kräuter, ätherischen Öle und Pfla
 nzenwässer und wir bringen in Erfahrung, welche Kräuter und Öle wir für uns
 ere Babys und Kinder überhaupt verwenden und wie wir diese zur Stärkung des
  Wohlbefindens einsetzen können.</p><p><br /> THEMEN:<br /> - Anwendungsmög
 lichkeiten von Kräutern, ätherischen Ölen und Pflanzenwässern bei Babys &am
 p; Kindern<br /> - Kräuter, Öle &amp; Pflanzenwässer zur sanften Hautpflege
 <br /> - natürliche Hausmittel bei verschiedensten Wehwehchen</p><p><br /> 
 Was wir gemeinsam herstellen:<br /> 1x Pflege-Balsam (30ml) • 1x Hautpflege
 -Öl (30 ml) • 1x Badezusatz (30 ml) • 1x Teemischung (30g)</p><p> </p><p>mi
 t Lisa Dirnbacher, BA von <a href="http://www.feinfuehlen.at/" target="_bla
 nk" rel="noopener noreferrer">feinfühlen</a></p><p><span class="text-primar
 y">Kosten: </span>€ 87,-</p><p><br /> Im Preis enthalten: Arbeitsmaterialie
 n, Skriptum, Notizheft, Pausensnacks und Getränke<br /> Eine Teilnahmegebüh
 r von 87 Euro, inkl. MwSt. kann vor Ort bezahlt werden.<br /> Anmeldungen t
 elefonisch unter 0664 227 07 10 oder per Email unter praxis@feinfuehlen.at<
 /p>
CONTACT:http://schwangerschaft-elternschaft.at/angebote/vortraege-workshops/baby-und-kinderpflege/ (http://schwangerschaft-elternschaft.at/angebote/vortraege-workshops/baby-und-kinderpflege/)
X-EXTRAINFO:[preis='8700'][anmeldung='true']
DTSTAMP:20260425T153900
DTSTART:20190119T130000
DTEND:20190119T160000
SEQUENCE:0
TRANSP:OPAQUE
END:VEVENT
END:VCALENDAR