BEGIN:VCALENDAR
VERSION:2.0
PRODID:-//jEvents 2.0 for Joomla//EN
CALSCALE:GREGORIAN
METHOD:PUBLISH
BEGIN:VEVENT
UID:2b7a0b175255fa0f44f81e7c1f0140d7
CATEGORIES:18. Bezirk
CREATED:20190104T094738
SUMMARY:Nähworkshop
LOCATION:SPIELRINGEL Mollgasse 11-13
DESCRIPTION:Gemeinsam nähen wir in kleinem Rahmen gemeinsam Babybekleidung aus Jerseyst
 offen. Der dreistündige Workshop richtet sich an Nähanfängerinnen, aber auc
 h fortgeschrittene Näherinnen können natürlich gerne mitmachen.\nihr dürft 
 gerne aus einer Auswahl an Schnitten wählen, die ich mitbringe, könnt aber 
 auch eigene Schnitte verwenden. Je nachdem wie schnell ihr seid, können meh
 rere Stücke genäht werden.\nDer Workshop richtet sich an werdende Mütter un
 d Väter, junge Eltern, Omas, Tanten, Schwestern... alle die gerne beginnen 
 möchten, ein süßes, kleines Set für das Baby zu nähen, sind herzlich willko
 mmen.\nAiuch die Kleinen dürfen und sollen gerne mitgebracht werden! intere
 ssenten ohne Baby bitten wir das zu berücksichtigen.\nVor Ort stehen euch 3
  Nähmaschinen zur Verfügung, ihr dürft aber auch gerne eure eigenen Maschin
 en mitbringen.\nFür genug Nähseide, Zubehör, Getränke und Snacks ist gesorg
 t und wenn ihr keine eigenen Stoffe mitbringen möchtet, könnt ihr -10% aus 
 unserem Sortiment shoppen!\nFür die Kleinen gibt es Decken, Spielsache, Wic
 kel- und Stillmöglcihkeiten und viel Geduld und Verständnis.\nKosten: € 60 
 pro Workshop inkl. Steuer, Nähseide, Snacks und Getränke\nInfo &amp; Anmeld
 ung:\nelisabeth@libminna.at (mailto:elisabeth@libminna.at)\n \n \n
X-ALT-DESC;FMTTYPE=text/html:<div id="c351" class="frame frame-default frame-type-text frame-background-
  frame-no-backgroundimage frame-space-before-none frame-space-after-none"><
 div class="frame-container"><div class="frame-inner"><p>Gemeinsam nähen wir
  in kleinem Rahmen gemeinsam Babybekleidung aus Jerseystoffen. Der dreistün
 dige Workshop richtet sich an Nähanfängerinnen, aber auch fortgeschrittene 
 Näherinnen können natürlich gerne mitmachen.</p><p>ihr dürft gerne aus eine
 r Auswahl an Schnitten wählen, die ich mitbringe, könnt aber auch eigene Sc
 hnitte verwenden. Je nachdem wie schnell ihr seid, können mehrere Stücke ge
 näht werden.</p><p>Der Workshop richtet sich an werdende Mütter und Väter, 
 junge Eltern, Omas, Tanten, Schwestern... alle die gerne beginnen möchten, 
 ein süßes, kleines Set für das Baby zu nähen, sind herzlich willkommen.</p>
 <p>Aiuch die Kleinen dürfen und sollen gerne mitgebracht werden! interessen
 ten ohne Baby bitten wir das zu berücksichtigen.</p><p>Vor Ort stehen euch 
 3 Nähmaschinen zur Verfügung, ihr dürft aber auch gerne eure eigenen Maschi
 nen mitbringen.</p><p>Für genug Nähseide, Zubehör, Getränke und Snacks ist 
 gesorgt und wenn ihr keine eigenen Stoffe mitbringen möchtet, könnt ihr -10
 % aus unserem Sortiment shoppen!</p><p>Für die Kleinen gibt es Decken, Spie
 lsache, Wickel- und Stillmöglcihkeiten und viel Geduld und Verständnis.</p>
 <p><span class="text-primary">Kosten: </span>€ 60 pro Workshop inkl. Steuer
 , Nähseide, Snacks und Getränke</p><p><span class="text-primary">Info &amp;
  Anmeldung:</span><br /><a href="mailto:elisabeth@libminna.at">elisabeth@li
 bminna.at</a></p><p> </p><p> </p></div></div></div>
CONTACT:http://schwangerschaft-elternschaft.at/angebote/vortraege-workshops/naehworkshop/ (http://schwangerschaft-elternschaft.at/angebote/vortraege-workshops/naehworkshop/)
X-EXTRAINFO:[preis='6000'][anmeldung='true']
DTSTAMP:20260425T152811
DTSTART:20190122T120000
DTEND:20190122T150000
SEQUENCE:0
TRANSP:OPAQUE
END:VEVENT
END:VCALENDAR