BEGIN:VCALENDAR
VERSION:2.0
PRODID:-//jEvents 2.0 for Joomla//EN
CALSCALE:GREGORIAN
METHOD:PUBLISH
BEGIN:VEVENT
UID:fe3a1ffd7b290ee13e1042461f1844df
CATEGORIES:18. Bezirk
CREATED:20190104T095323
SUMMARY: Babys ohne Windeln? Ist das überhaupt möglich?
LOCATION:SPIELRINGEL Mollgasse 11-13
DESCRIPTION:<div id="c244" class="frame frame-default frame-type-text frame-background-
 none frame-no-backgroundimage frame-space-before-none frame-space-after-non
 e"><div class="frame-container"><div class="frame-inner"><p><strong>Vortrag
  zur natürlichen Säuglingspflege</strong></p><p>Wir leben in einer Zeit in 
 der Wegwerf- oder Stoffwindeln, im Zusammenleben mit Babys und Kleinkindern
 , kaum weg zu denken sind. Aber wie haben es Generationen vor uns gemacht, 
 als es diese Möglichkeiten noch nicht gab? Oder wie machen es noch heute vi
 ele Menschen, vor allem in anderen Kulturen?</p><p>Babys haben Bedürfnisse 
 wie zB. Schlafen, Hunger, Nähe und auch Ausscheiden. Sie spüren es und sie 
 kommunizieren es. Wie können wir diese Signale richtig deuten und darauf ei
 ngehen.<br /> Es wird um die Frage gehen was ist natürliche Säuglingspflege
 , worum geht es bei der Ausscheidungskommunikation und wie kann ich sie im 
 Alltag mit meinem Baby leben.<br /> Dieser Vortrag richtig sich an (werdend
 e) Eltern wie auch begleitende Menschen (Hebammen, Ärztinnen, Doulas, …) - 
 die mehr über die Fähigkeit des Babys und die Möglichkeit der intensiven un
 d intuitiven Kommunikation erfahren wollen.</p><p>Es wird Raum für individu
 elle Fragen, spezielle Themen und meinen Erfahrungen als Mama von 2 Kindern
  geben. Es werden Windelfreiutensilien und Bücher vor Ort bereitliegen.</p>
 <p><span class="text-primary">Termin:</span> <br /> Freitag 25.01.2019 11:0
 0-12:30 mit <a href="http://schwangerschaft-elternschaft.at/das-team/momo/"
 >Momo</a></p><p><span class="text-primary">Kosten:</span><br /> € 25,- bzw.
  € 40,- für Paare</p><p><span class="text-primary">Info &amp; Anmeldung:</s
 pan><br /><a href="mailto:momoneun@yahoo.de" target="_blank" rel="noopener 
 noreferrer">momoneun@yahoo.de</a></p></div></div></div>
CONTACT:http://schwangerschaft-elternschaft.at/angebote/vortraege-workshops/babys-ohne-windeln/ (http://schwangerschaft-elternschaft.at/angebote/vortraege-workshops/babys-ohne-windeln/)
X-EXTRAINFO:[preis='2500'][anmeldung='true']
DTSTAMP:20260425T135004
DTSTART:20190125T100000
DTEND:20190125T113000
SEQUENCE:0
TRANSP:OPAQUE
END:VEVENT
END:VCALENDAR