BEGIN:VCALENDAR
VERSION:2.0
PRODID:-//jEvents 2.0 for Joomla//EN
CALSCALE:GREGORIAN
METHOD:PUBLISH
BEGIN:VEVENT
UID:dd0ddd38edbfed836abf4dbe76367f21
CATEGORIES:18. Bezirk
CREATED:20190104T102412
SUMMARY:Trageworkshop
LOCATION:SPIELRINGEL Mollgasse11-13
DESCRIPTION:Warum Tragen? Von Natur aus sind Babys Traglinge. Getragen zu werden ist ei
 nes ihrer Grundbedürfnisse. Durch das Tragen kannst du deinem Baby Sicherhe
 it, Geborgenheit und Liebe schenken. Du kannst es damit auf keinen Fall zu 
 sehr verwöhnen. Auch für dich bietet das Tragen einige Vorteile.\nInhalte d
 ieses Workshops\n\n - Menschenbabys sind Traglinge. Was bedeutet das?\n - A
 natomie und Bindung\n - Vorteile des Tragens\n - Überblick über die Möglich
 keiten dein Baby zu tragen\n - Ausprobieren verschiedener Tragehilfen und -
 tücherDieser Workshop richtet sich an Alle, die an dem Thema Tragen interes
 siert sind, an Schwangere oder an Mamas/Papas mit Babys\n \nKosten:\n € 35,
 -\nMitzubringen: \n Tragehilfen oder Tragetücher wenn vorhanden\nInfo &amp;
  Anmeldung:\nmomoneun@yahoo.de (mailto:momoneun@yahoo.de)\n
X-ALT-DESC;FMTTYPE=text/html:<div id="c262" class="frame frame-default frame-type-text frame-background-
  frame-no-backgroundimage frame-space-before-none frame-space-after-none"><
 div class="frame-container"><div class="frame-inner"><p>Warum Tragen? Von N
 atur aus sind Babys Traglinge. Getragen zu werden ist eines ihrer Grundbedü
 rfnisse. Durch das Tragen kannst du deinem Baby Sicherheit, Geborgenheit un
 d Liebe schenken. Du kannst es damit auf keinen Fall zu sehr verwöhnen. Auc
 h für dich bietet das Tragen einige Vorteile.</p><p>Inhalte dieses Workshop
 s</p><ul class="list-normal"><li>Menschenbabys sind Traglinge. Was bedeutet
  das?</li><li>Anatomie und Bindung</li><li>Vorteile des Tragens</li><li>Übe
 rblick über die Möglichkeiten dein Baby zu tragen</li><li>Ausprobieren vers
 chiedener Tragehilfen und -tücher</li></ul><p>Dieser Workshop richtet sich 
 an Alle, die an dem Thema Tragen interessiert sind, an Schwangere oder an M
 amas/Papas mit Babys</p><p> </p><p><span class="text-primary">Kosten:</span
 ><br /> € 35,-</p><p><span class="text-primary">Mitzubringen: </span><br />
  Tragehilfen oder Tragetücher wenn vorhanden</p><p><span class="text-primar
 y">Info &amp; Anmeldung:</span><br /><a href="mailto:momoneun@yahoo.de" tar
 get="_blank" rel="noopener noreferrer">momoneun@yahoo.de</a></p></div></div
 ></div>
CONTACT:http://schwangerschaft-elternschaft.at/angebote/vortraege-workshops/trageworkshop/ (http://schwangerschaft-elternschaft.at/angebote/vortraege-workshops/trageworkshop/)
X-EXTRAINFO:[preis='3500'][anmeldung='true']
DTSTAMP:20260425T170133
DTSTART:20190201T100000
DTEND:20190201T113000
SEQUENCE:0
TRANSP:OPAQUE
END:VEVENT
END:VCALENDAR