BEGIN:VCALENDAR
VERSION:2.0
PRODID:-//jEvents 2.0 for Joomla//EN
CALSCALE:GREGORIAN
METHOD:PUBLISH
BEGIN:VEVENT
UID:49436a33886f52c5535b1f1f645f7249
CATEGORIES:18. Bezirk
CREATED:20190104T102932
SUMMARY:Beikost - Baby led weaning - Breifrei 
LOCATION:SPIELRINGEL Mollgasse 11-13
DESCRIPTION:Entspannt in den Beikoststart\nDu beschäftigst dich gerade mit dem Thema Be
 ikost oder dein Baby will sogar schon am Familientisch mitessen und du bist
  an Alternativen zur Breifütterung nach Plan interessiert. Dann bist du in 
 diesem Workshop genau richtig.\nEs wird um die Fragen gehen\n\n - Was bedeu
 tet baby led weaning\n\n - Wann ist mein Baby beikostreif\n\n - Mit welchen
  Lebensmitteln kann ich starten\n\n - Fingerfood oder Brei oder doch beides
 \n\n - Milchmahlzeiten ersetzten - ist das überhaupt notwendig\n\n - Wie ka
 nn bedürfnissorientierte Beikosteinführung im Alltag aussehen\n \nKosten:\n
  € 35,-\nInfo &amp; Anmeldung:\nmomoneun@yahoo.de (mailto:momoneun@yahoo.de
 )\n
X-ALT-DESC;FMTTYPE=text/html:<p><strong>Entspannt in den Beikoststart</strong></p><p>Du beschäftigst dic
 h gerade mit dem Thema Beikost oder dein Baby will sogar schon am Familient
 isch mitessen und du bist an Alternativen zur Breifütterung nach Plan inter
 essiert. Dann bist du in diesem Workshop genau richtig.</p><p>Es wird um di
 e Fragen gehen</p><ul class="list-normal"><li><p>Was bedeutet baby led wean
 ing</p></li><li><p>Wann ist mein Baby beikostreif</p></li><li><p>Mit welche
 n Lebensmitteln kann ich starten</p></li><li><p>Fingerfood oder Brei oder d
 och beides</p></li><li><p>Milchmahlzeiten ersetzten - ist das überhaupt not
 wendig</p></li><li><p>Wie kann bedürfnissorientierte Beikosteinführung im A
 lltag aussehen</p></li></ul><p> </p><p><span class="text-primary">Kosten:</
 span><br /> € 35,-</p><p><span class="text-primary">Info &amp; Anmeldung:</
 span><br /><a href="mailto:momoneun@yahoo.de" target="_blank" rel="noopener
  noreferrer">momoneun@yahoo.de</a></p>
CONTACT:http://schwangerschaft-elternschaft.at/angebote/vortraege-workshops/beikost-baby-led-weaning-breifrei/ (http://schwangerschaft-elternschaft.at/angebote/vortraege-workshops/beikost-baby-led-weaning-breifrei/)
X-EXTRAINFO:[preis='3500'][anmeldung='true']
DTSTAMP:20260425T153901
DTSTART:20190222T100000
DTEND:20190222T113000
SEQUENCE:0
TRANSP:OPAQUE
END:VEVENT
END:VCALENDAR