BEGIN:VCALENDAR
VERSION:2.0
PRODID:-//jEvents 2.0 for Joomla//EN
CALSCALE:GREGORIAN
METHOD:PUBLISH
BEGIN:VEVENT
UID:77e398362193f73890b9816fbbb1f074
CATEGORIES:18. Bezirk
CREATED:19700101T010000
SUMMARY: Sinnesspielgruppe für Kleinstkinder (ca. 8 Monate bis 2 Jahre)
DESCRIPTION:„Sage es mir, und ich werde es vergessen. Zeige es mir, und ich werde es vi
 elleicht behalten. Lass es mich tun, und ich werde es können.“\nKonfuzius\n
 In unserer Sinnesspielgruppe entdecken die Kinder spielend viel Neues und l
 ernen dabei auch noch neue Freunde kennen. Die Sinne der Kinder werden mit 
 Hilfe verschiedener Materialien spielerisch angeregt, es wird experimentier
 t und auch gebastelt - dabei sollen sie möglichst viel selbst ausprobieren.
  Achtsamkeit, Wahrnehmungsförderung und Sinnesschulung stehen im Vordergrun
 d! Kreisspiele, Kniereiter und Fingerreime gehören genauso dazu, wie der Au
 stausch mit anderen Eltern.\nGenießt die Zeit beim gemeinsamen Spielen und 
 Entdecken mit euren Kindern!\nBitte Kleidung anziehen, die auch schmutzig w
 erden darf!\n \nKurstag:\n Donnerstag 9:45-10:45 mit Claudia (http://schwan
 gerschaft-elternschaft.at/das-team/claudia/)\nTermine: 31.01., 07.02., 14.0
 2., 21.02., 28.02., 7.03., 14.03., 21.03., 28.03., 04.04.\nKosten:\n € 155,
 - (10 Wochen-Kurs)\nInfo &amp; Anmeldung:\noffice@spielringel.at (mailto:ko
 ntakt@schwangerschaft-elternschaft.at)\n \n
X-ALT-DESC;FMTTYPE=text/html:<div id="c375" class="frame frame-default frame-type-text frame-background-
  frame-no-backgroundimage frame-space-before-none frame-space-after-none"><
 div class="frame-container"><div class="frame-inner"><p>„Sage es mir, und i
 ch werde es vergessen. Zeige es mir, und ich werde es vielleicht behalten. 
 Lass es mich tun, und ich werde es können.“</p><p>Konfuzius</p><p>In unsere
 r Sinnesspielgruppe entdecken die Kinder spielend viel Neues und lernen dab
 ei auch noch neue Freunde kennen. Die Sinne der Kinder werden mit Hilfe ver
 schiedener Materialien spielerisch angeregt, es wird experimentiert und auc
 h gebastelt - dabei sollen sie möglichst viel selbst ausprobieren. Achtsamk
 eit, Wahrnehmungsförderung und Sinnesschulung stehen im Vordergrund! Kreiss
 piele, Kniereiter und Fingerreime gehören genauso dazu, wie der Austausch m
 it anderen Eltern.</p><p>Genießt die Zeit beim gemeinsamen Spielen und Entd
 ecken mit euren Kindern!</p><p>Bitte Kleidung anziehen, die auch schmutzig 
 werden darf!</p><p> </p><p><span class="text-primary">Kurstag</span>:<br />
  Donnerstag 9:45-10:45 mit<a href="http://schwangerschaft-elternschaft.at/d
 as-team/claudia/"> Claudia</a></p><p><span class="text-primary">Termine:</s
 pan> 31.01., 07.02., 14.02., 21.02., 28.02., 7.03., 14.03., 21.03., 28.03.,
  04.04.</p><p><span class="text-primary">Kosten:</span><br /> € 155,- (10 W
 ochen-Kurs)</p><p><span class="text-primary">Info &amp; Anmeldung:</span><b
 r /><a href="mailto:kontakt@schwangerschaft-elternschaft.at">office@spielri
 ngel.at</a></p><p> </p></div></div></div>
X-EXTRAINFO:[preis='15500'][anmeldung='false']
DTSTAMP:20260425T134145
DTSTART:20190131T084500
DTEND:20190131T094500
SEQUENCE:0
RRULE:FREQ=WEEKLY;UNTIL=20190405T000000Z;INTERVAL=1;BYDAY=TH
TRANSP:OPAQUE
END:VEVENT
END:VCALENDAR