BEGIN:VCALENDAR
VERSION:2.0
PRODID:-//jEvents 2.0 for Joomla//EN
CALSCALE:GREGORIAN
METHOD:PUBLISH
BEGIN:VEVENT
UID:c72cdbaae2963fcc2e0a4839071ca138
CATEGORIES:9. Bezirk
CREATED:19700101T010000
SUMMARY:Mama-Baby-Yoga 2 / Rückbildungstraining (in Drop-In-Classes)
LOCATION:FREIRAUM-Institut\, Liechtensteinstr. 10A\, 1090 Wien (U2 Schottentor)
DESCRIPTION:Mama-Baby-Yoga 1 2 / Rückbildungstraining (in Drop-In-Classes)\n \nDrop-In-
 Classes ohne Anmeldung: 90 Minuten Yoga mit Deinem Baby, wundervoll entspan
 nend und ein effektives Rückbildungstraining für die Bauchdecke sowie Stärk
 ung für den Beckenboden und Bonding mit deinem Baby.\n \nSelbstverständlich
  können auch Papas mit Baby teilnehmen! \n \nYoga-Matten stellen wir kosten
 los zur Verfügung.\nSonnentor-Bio-Tee wartet vor und nach allen unseren Dro
 p-In-Classes ohne Anmeldung am Empfang auf Dich!\nMama-Baby-Yoga 1 für Baby
 s die noch nicht krabbeln können,\nMama-Baby-Yoga 2 für Krabbel-Babys bis s
 ie gehen können!\n \nWeiterführend bieten wir Mama-Kleinkind-Yoga-Kurse mit
  Anmeldung für Kinder im Alter von 1-3 Jahren.\n \nStundenplan: Online hier
  zu finden! (https://www.freiraum-institut.at/stundenplan/)\nÖffnungszeiten
  (https://www.freiraum-institut.at/oeffnungszeiten/): 20-30 Minuten vor Beg
 inn einer Drop-In-Class und bis 30 Minuten nach Ende der Drop-In-Class!\nMi
 ttagspause im FREIRAUM-Institut: Mo-Fr von 12:00-13:30 Uhr\nHäufig gestellt
 e Fragen / FAQ: werden hier beantwortet (https://www.freiraum-institut.at/f
 ragen-antworten/)\n \nEinzelne Drop-In-Classes gibt's bei uns um € 17,-\nEi
 n ermäßigtes 10er-Päckchen FREIRAUM-Yoga-Münzen \ngibt's unter anderem für 
 Mamas oder Papas in Karenz, Babypause bzw. Mutterschutz um € 145,-\n \n...u
 nsere FREIRAUM-Yoga-Münzen sind zeitlich unlimitiert nutzbar, können weiter
 geschenkt oder weiterverkauft werden, sind übertragbar und können in ALLEN 
 Drop-In-Classes vom FREIRAUM-Institut flexibel genutzt werden:\neine FREIRA
 UM-Yoga-Münze ermöglicht die Teilnahme an einer beliebigen Drop-In-Class. S
 iehe Preisgestaltung (https://www.freiraum-institut.at/preisgestaltung/)!\n
  \n \n
X-ALT-DESC;FMTTYPE=text/html:<p><b>Mama-Baby-Yoga 1 2 / Rückbildungstraining (in Drop-In-Classes)</b></p
 ><p> </p><p><b>Drop-In-Classes ohne Anmeldung:</b> 90 Minuten Yoga mit Dein
 em Baby, wundervoll entspannend und ein effektives Rückbildungstraining für
  die Bauchdecke sowie Stärkung für den Beckenboden und Bonding mit deinem B
 aby.</p><p> </p><p>Selbstverständlich können auch Papas mit Baby teilnehmen
 !<span class="Apple-converted-space"> </span></p><p> </p><p><b>Yoga-Matten 
 stellen wir kostenlos zur Verfügung.</b></p><p><b>Sonnentor</b>-Bio-Tee war
 tet vor und nach allen unseren Drop-In-Classes ohne Anmeldung am Empfang au
 f Dich!</p><p><b>Mama-Baby-Yoga 1</b> für Babys die noch nicht krabbeln kön
 nen,</p><p><b>Mama-Baby-Yoga 2</b> für Krabbel-Babys bis sie gehen können!<
 /p><p> </p><p>Weiterführend bieten wir Mama-Kleinkind-Yoga-Kurse mit Anmeld
 ung für Kinder im Alter von 1-3 Jahren.</p><p> </p><p>Stundenplan: <a href=
 "https://www.freiraum-institut.at/stundenplan/">Online hier zu finden!</a><
 /p><p><a href="https://www.freiraum-institut.at/oeffnungszeiten/">Öffnungsz
 eiten</a>: 20-30 Minuten vor Beginn einer Drop-In-Class und bis 30 Minuten 
 nach Ende der Drop-In-Class!</p><p>Mittagspause im FREIRAUM-Institut: Mo-Fr
  von 12:00-13:30 Uhr</p><p>Häufig gestellte Fragen / FAQ: <a href="https://
 www.freiraum-institut.at/fragen-antworten/">werden hier beantwortet</a></p>
 <p> </p><p><b>Einzelne Drop-In-Classes</b> gibt's bei uns um € 17,-</p><p>E
 in <b>ermäßigtes 10er-Päckchen FREIRAUM-Yoga-Münzen</b><span class="Apple-c
 onverted-space"> </span></p><p>gibt's unter anderem für Mamas oder Papas in
  Karenz, Babypause bzw. Mutterschutz um € 145,-</p><p> </p><p>...unsere FRE
 IRAUM-Yoga-Münzen sind zeitlich unlimitiert nutzbar, können weitergeschenkt
  oder weiterverkauft werden, sind übertragbar und können in ALLEN Drop-In-C
 lasses vom FREIRAUM-Institut flexibel genutzt werden:</p><p>eine FREIRAUM-Y
 oga-Münze ermöglicht die Teilnahme an einer beliebigen Drop-In-Class. <a hr
 ef="https://www.freiraum-institut.at/preisgestaltung/">Siehe Preisgestaltun
 g</a>!</p><p> </p><p> </p>
CONTACT:https://www.freiraum-institut.at/stundenplan/mama-baby-yoga-2
X-EXTRAINFO:[preis='1700'][anmeldung='false']
DTSTAMP:20260423T112353
DTSTART:20190110T090000
DTEND:20190110T103000
SEQUENCE:0
RRULE:FREQ=WEEKLY;UNTIL=20191221T000000Z;INTERVAL=1;BYDAY=TH
EXDATE:20190530T080000,20190620T080000,20190704T080000,20190711T080000,20190718T08
 0000
TRANSP:OPAQUE
END:VEVENT
END:VCALENDAR