BEGIN:VCALENDAR
VERSION:2.0
PRODID:-//jEvents 2.0 for Joomla//EN
CALSCALE:GREGORIAN
METHOD:PUBLISH
BEGIN:VEVENT
UID:b83bbd368cec428591b851071146f52a
CATEGORIES:9. Bezirk
CREATED:19700101T010000
SUMMARY:Schwangerschafts-Yoga (in Drop-In-Classes)
LOCATION:FREIRAUM-Institut\, Liechtensteinstr. 10A\, 1090 Wien (U2 Schottentor)
DESCRIPTION:Drop-In-Classes ohne Anmeldung: 90 Minuten Yoga für Dich und Dein Baby im B
 auch, wundervoll entspannend und eine effektive Geburtsvorbereitung sowie z
 ur persönlichen, mentalen Stärkung für die Geburt.\nYoga-Matten stellen wir
  kostenlos zur Verfügung.\nSonnentor-Bio-Tee wartet vor und nach allen unse
 ren Drop-In-Classes am FREIRAUM-Empfang auf Dich!\n \nNach der Geburt (post
 natal) bieten wir ebenso in Form von Drop-In-Classes ohne Anmeldung:\nMama-
 Baby-Yoga 1 für Babys die noch nicht krabbeln können,\nMama-Baby-Yoga 2 für
  Krabbel-Babys bis sie gehen können!\nWeiterführend bieten wir nach dem Mam
 a-Baby-Yoga die Mama-Kleinkind-Yoga-Kurse mit Anmeldung für Kinder im Alter
  von 1-3 Jahren.\n \nStundenplan: Online hier zu finden! (https://www.freir
 aum-institut.at/stundenplan/)\nÖffnungszeiten (https://www.freiraum-institu
 t.at/oeffnungszeiten/): 20-30 Minuten vor Beginn einer Drop-In-Class und bi
 s 30 Minuten nach Ende der Drop-In-Class!\nMittagspause im FREIRAUM-Institu
 t: Mo-Fr von 12:00-13:30 Uhr\nHäufig gestellte Fragen / FAQ: werden hier be
 antwortet (https://www.freiraum-institut.at/fragen-antworten/)\nEinzelne Dr
 op-In-Classes gibt's bei uns um € 17,- inkl. 20% USt.\nEin ermäßigtes 10er-
 Päckchen FREIRAUM-Yoga-Münzen gibt's unter anderem für Mamas in Mutterschut
 z (oder auch für Papas) in Karenz bzw. Babypause um € 145,- inkl. 20% USt.\
 n...unsere FREIRAUM-Yoga-Münzen sind zeitlich unlimitiert nutzbar, können w
 eitergeschenkt oder weiterverkauft werden, sind übertragbar und können in A
 LLEN Drop-In-Classes vom FREIRAUM-Institut flexibel genutzt werden:\neine F
 REIRAUM-Yoga-Münze ermöglicht die Teilnahme an einer beliebigen Drop-In-Cla
 ss. Siehe Preisgestaltung (https://www.freiraum-institut.at/preisgestaltung
 /)!\n \n
X-ALT-DESC;FMTTYPE=text/html:<p><b>Drop-In-Classes ohne Anmeldung:</b> 90 Minuten Yoga für Dich und Dein
  Baby im Bauch, wundervoll entspannend und eine effektive Geburtsvorbereitu
 ng sowie zur persönlichen, mentalen Stärkung für die Geburt.</p><p><b>Yoga-
 Matten </b>stellen wir kostenlos zur Verfügung.</p><p><b>Sonnentor</b>-Bio-
 Tee wartet vor und nach allen unseren Drop-In-Classes am FREIRAUM-Empfang a
 uf Dich!</p><p> </p><p>Nach der Geburt (postnatal) bieten wir ebenso in For
 m von Drop-In-Classes ohne Anmeldung:</p><p><b>Mama-Baby-Yoga 1</b> für Bab
 ys die noch nicht krabbeln können,</p><p><b>Mama-Baby-Yoga 2</b> für Krabbe
 l-Babys bis sie gehen können!</p><p>Weiterführend bieten wir nach dem Mama-
 Baby-Yoga die <b>Mama-Kleinkind-Yoga-Kurse</b> mit Anmeldung für Kinder im 
 Alter von 1-3 Jahren.</p><p> </p><p><b>Stundenplan:</b> <a href="https://ww
 w.freiraum-institut.at/stundenplan/">Online hier zu finden!</a></p><p><a hr
 ef="https://www.freiraum-institut.at/oeffnungszeiten/">Öffnungszeiten</a>: 
 20-30 Minuten vor Beginn einer Drop-In-Class und bis 30 Minuten nach Ende d
 er Drop-In-Class!</p><p><b>Mittagspause</b> im FREIRAUM-Institut: Mo-Fr von
  12:00-13:30 Uhr</p><p>Häufig gestellte Fragen / FAQ: <a href="https://www.
 freiraum-institut.at/fragen-antworten/">werden hier beantwortet</a></p><p><
 b>Einzelne Drop-In-Classes</b> gibt's bei uns um € 17,- inkl. 20% USt.</p><
 p>Ein <b>ermäßigtes 10er-Päckchen FREIRAUM-Yoga-Münzen</b> gibt's unter and
 erem für Mamas in Mutterschutz (oder auch für Papas) in Karenz bzw. Babypau
 se um € 145,- inkl. 20% USt.</p><p>...unsere FREIRAUM-Yoga-Münzen sind zeit
 lich unlimitiert nutzbar, können weitergeschenkt oder weiterverkauft werden
 , sind übertragbar und können in ALLEN Drop-In-Classes vom FREIRAUM-Institu
 t flexibel genutzt werden:</p><p>eine FREIRAUM-Yoga-Münze ermöglicht die Te
 ilnahme an einer beliebigen Drop-In-Class. <a href="https://www.freiraum-in
 stitut.at/preisgestaltung/">Siehe Preisgestaltung</a>!</p><p> </p>
CONTACT:http://www.schwangerschaftsyoga.wien
X-EXTRAINFO:[preis='1700'][anmeldung='false']
DTSTAMP:20260423T112421
DTSTART:20190109T090000
DTEND:20190109T103000
SEQUENCE:0
RRULE:FREQ=WEEKLY;UNTIL=20191221T000000Z;INTERVAL=1;BYDAY=WE
TRANSP:OPAQUE
END:VEVENT
END:VCALENDAR