BEGIN:VCALENDAR
VERSION:2.0
PRODID:-//jEvents 2.0 for Joomla//EN
CALSCALE:GREGORIAN
METHOD:PUBLISH
BEGIN:VEVENT
UID:c8dd35cffdd6504632c8cccf5027936c
CATEGORIES:9. Bezirk
CREATED:19700101T010000
SUMMARY:Schwangerschafts-Yoga sanft in Drop-In-Classes ohne Anmeldung!
LOCATION:FREIRAUM-Institut\, Liechtensteinstr. 10A\, 1090 Wien (U2 Schottentor)
DESCRIPTION:<p><b>Drop-In-Classes ohne Anmeldung:</b> 90 Minuten Yoga für Dich und Dein
  Baby im Bauch, wundervoll entspannend und eine effektive Geburtsvorbereitu
 ng sowie zur persönlichen, mentalen Stärkung für die Geburt.</p><p><b>Yoga-
 Matten </b>stellen wir kostenlos zur Verfügung.</p><p><b>Sonnentor</b>-Bio-
 Tee wartet vor und nach allen unseren Drop-In-Classes am FREIRAUM-Empfang a
 uf Dich!</p><p> </p><p>Nach der Geburt (postnatal) bieten wir ebenso in For
 m von Drop-In-Classes ohne Anmeldung:</p><p><b>Mama-Baby-Yoga 1</b> für Bab
 ys die noch nicht krabbeln können,</p><p><b>Mama-Baby-Yoga 2</b> für Krabbe
 l-Babys bis sie gehen können!</p><p>Weiterführend bieten wir nach dem Mama-
 Baby-Yoga die <b>Mama-Kleinkind-Yoga-Kurse</b> mit Anmeldung für Kinder im 
 Alter von 1-3 Jahren.</p><p> </p><p><b>Stundenplan:</b> <a href="https://ww
 w.freiraum-institut.at/stundenplan/">Online hier zu finden!</a></p><p><a hr
 ef="https://www.freiraum-institut.at/oeffnungszeiten/">Öffnungszeiten</a>: 
 20-30 Minuten vor Beginn einer Drop-In-Class und bis 30 Minuten nach Ende d
 er Drop-In-Class!</p><p><b>Mittagspause</b> im FREIRAUM-Institut: Mo-Fr von
  12:00-13:30 Uhr</p><p>Häufig gestellte Fragen / FAQ: <a href="https://www.
 freiraum-institut.at/fragen-antworten/">werden hier beantwortet</a></p><p><
 b>Einzelne Drop-In-Classes</b> gibt's bei uns um € 17,- inkl. 20% USt.</p><
 p>Ein <b>ermäßigtes 10er-Päckchen FREIRAUM-Yoga-Münzen</b> gibt's unter and
 erem für Mamas in Mutterschutz (oder auch für Papas) in Karenz bzw. Babypau
 se um € 145,- inkl. 20% USt.</p><p>...unsere FREIRAUM-Yoga-Münzen sind zeit
 lich unlimitiert nutzbar, können weitergeschenkt oder weiterverkauft werden
 , sind übertragbar und können in ALLEN Drop-In-Classes vom FREIRAUM-Institu
 t flexibel genutzt werden:</p><p>eine FREIRAUM-Yoga-Münze ermöglicht die Te
 ilnahme an einer beliebigen Drop-In-Class. <a href="https://www.freiraum-in
 stitut.at/preisgestaltung/">Siehe Preisgestaltung</a>!</p><p> </p>
CONTACT:http://www.schwangerschaftsyoga.wien
X-EXTRAINFO:[preis='1700'][anmeldung='false']
DTSTAMP:20260423T100705
DTSTART:20190110T170000
DTEND:20190110T183000
SEQUENCE:0
RRULE:FREQ=WEEKLY;UNTIL=20191221T000000Z;INTERVAL=1;BYDAY=TH,TH,TH,TH,TH
EXDATE:20190530T160000,20190620T160000
TRANSP:OPAQUE
END:VEVENT
END:VCALENDAR