BEGIN:VCALENDAR
VERSION:2.0
PRODID:-//jEvents 2.0 for Joomla//EN
CALSCALE:GREGORIAN
METHOD:PUBLISH
BEGIN:VEVENT
UID:77baf199a16aa3161d1b849f62d8cc12
CATEGORIES:9. Bezirk
CREATED:19700101T010000
SUMMARY:Guten-Morgen-Yoga (Drop-In-Classes) zur Rückbildung geeignet, wenn Du einen Babysitter hast
LOCATION:FREIRAUM-Institut\, Liechtensteinstr. 10A\, 1090 Wien (U2 Schottentor)
DESCRIPTION:<p> </p><p><b>Drop-In-Classes ohne Anmeldung:</b> 90 Minuten Yoga für Dich,
  wundervoll entspannend und stärkend, eine fantastische Kräftigung der Musk
 ulatur sowie viel Beckenbodentraining. Auch für alle Mamas nach der Geburt 
 des Babys geeignet!</p><p> </p><p><b>Yoga-Matten stellen wir kostenlos zur 
 Verfügung.</b></p><p> </p><p><b>Sonnentor</b>-Bio-Tee wartet vor und nach a
 llen unseren Drop-In-Classes ohne Anmeldung am Empfang auf dich!</p><p> </p
 ><p>Stundenplan: <a href="https://www.freiraum-institut.at/stundenplan/">On
 line hier zu finden!</a></p><p> </p><p><a href="https://www.freiraum-instit
 ut.at/oeffnungszeiten/">Öffnungszeiten</a>: 20-30 Minuten vor Beginn einer 
 Drop-In-Class und bis 30 Minuten nach Ende der Drop-In-Class!</p><p>Mittags
 pause im FREIRAUM-Institut: Mo-Fr von 12:00-13:30 Uhr</p><p>Häufig gestellt
 e Fragen / FAQ: <a href="https://www.freiraum-institut.at/fragen-antworten/
 ">werden hier beantwortet</a></p><p> </p><p><b>Einzelne Drop-In-Classes</b>
  gibt's bei uns um € 17,-</p><p>Ein <b>ermäßigtes 10er-Päckchen FREIRAUM-Yo
 ga-Münzen</b><span class="Apple-converted-space"> </span></p><p>gibt's unte
 r anderem für Mamas oder Papas in Karenz/Babypause/Mutterschutz um € 145,-<
 /p><p> </p><p>...unsere FREIRAUM-Yoga-Münzen sind zeitlich unlimitiert nutz
 bar, können weitergeschenkt oder weiterverkauft werden, sind übertragbar un
 d können in ALLEN Drop-In-Classes vom FREIRAUM-Institut flexibel genutzt we
 rden:</p><p>eine FREIRAUM-Yoga-Münze ermöglicht die Teilnahme an einer beli
 ebigen Drop-In-Class. <a href="https://www.freiraum-institut.at/preisgestal
 tung/">Siehe Preisgestaltung</a>!</p><p> </p><p>Die sanften Guten-Morgen-Yo
 ga-Klassen finden im Raum 1 vom FREIRAUM-Institut, Liechtensteinstr. 10A (E
 cke Türkenstraße) statt.</p><p> </p>
CONTACT:https://www.freiraum-institut.at/stundenplan/hatha-yoga-sanft
X-EXTRAINFO:[preis='1700'][anmeldung='false']
DTSTAMP:20260423T100659
DTSTART:20190110T070000
DTEND:20190110T083000
SEQUENCE:0
RRULE:FREQ=WEEKLY;COUNT=9999;INTERVAL=1;BYDAY=TH,TH,TH,TH,TH
EXDATE:20190530T060000,20190620T060000
TRANSP:OPAQUE
END:VEVENT
END:VCALENDAR