BEGIN:VCALENDAR
VERSION:2.0
PRODID:-//jEvents 2.0 for Joomla//EN
CALSCALE:GREGORIAN
METHOD:PUBLISH
BEGIN:VEVENT
UID:c121d14bd18d24e21832b2ce475dbe73
CATEGORIES:9. Bezirk
CREATED:20190106T184248
SUMMARY:Reiki-Basiskurs, die kleine Haus-Apotheke für Groß und Klein
LOCATION:FREIRAUM-Institut\, Liechtensteinstr. 10A\, 1090 Wien (U2 Schottentor)
DESCRIPTION: \nerstes Jahr der zweijährigen Ausbildung zur diplomierten Reiki-Therapeut
 in / zum diplomierten Reiki-Therapeuten nach ÖBRT-Richtlinien\nDiese erste 
 Ausbildungsstufe findet als Wochenendkurs an 7 Wochenenden (jeweils Samstag
  und Sonntag von 10:00-16:00 Uhr) statt. \n\nZu Beginn stehen 2 Intensiv-Wo
 chenenden am Programm:\n\n - am ersten Wochenende werden die Grundlagen der
  Aura-, Chakren- und Reiki-Arbeit vermittelt (Module A-E) (1. Grad),\n - am
  zweiten Wochenende wird die Reiki-Einstimmung (Modul 1.1), sowie sämtliche
  Grundpositionen (1.2 - 1.5) (2. Grad) unterrichtet. Alle weiteren Reiki-Wo
 chenenden können in nahezu beliebiger Reihenfolge absolviert werden: versäu
 mst Du ein Wochenende oder einen einzelnen Tag, kannst Du diese Inhalte bei
 m nächsten oder übernächsten Durchgang kostenlos nachholen. Bis zu 3 Jahre 
 nach Beginn des Reiki-Basiskurses!\nNach Absolvierung von zumindest 6 Woche
 nenden (also mehr als 80% Anwesenheit, bezogen auf die gesamte Ausbildungsd
 auer des ersten Jahres) kann das zweite Ausbildungsjahr begonnen werden.\nT
 eilnahmebestätigung und AbschlussarbeitFür die erste Reikiausbildungsstufe 
 (analog zum "ersten Grad", "zweiten Grad" und "dritten Grad") der Ausbildun
 g wird eine Reiki-Basiskurs-Zertifikat verliehen. \nNach erfolgreicher Abso
 lvierung des zweiten Ausbildungsjahres (umfasst 14 Wochenenden) und der Ver
 fassung einer kleinen Diplomarbeit zu einem Reiki-relevanten Thema (inkl. F
 allstudie der selbst gegebenen Reiki-Sitzungen), wird das Reiki-Diplom(Beru
 fsbefähigung) verliehen. \nEine Aufnahme in den Österreichischen Berufsverb
 and der diplomierten Reiki-TherapeutInnen (ÖBRT) (http://www.oebrt.at/) kan
 n damit beantragt werden.\nReiki-Ausbildungsprogramm des Basiskurses: (http
 s://www.freiraum-institut.at/Jacomo/upload/reiki-ausbildung-basiskurs-wien.
 pdf) hier findest Du das gesamte Programm und den Terminplan der Reiki-Ausb
 ildung (Basiskurs) als PDF zum Download oder ausdrucken!\nAnmeldung: online
  (https://www.freiraum-institut.at/seminare-ausbildungen/reiki-basiskurs-wi
 en)Der Ausbildungsplatz ist gesichert, sobald der Kursbeitrag von € 980,- a
 uf dem FREIRAUM-Konto eingegangen ist.\nEine Teilzahlung in 7 Raten zu jewe
 ils € 150,- (monatlich) ist selbstverständlich möglich!\nVersäumte Reiki-Au
 sbildungstage (Module) können innerhalb von 3 Jahren bei einem der folgende
 n Durchgänge kostenlos nachgeholt werden!\nDer Reiki-Basiskurs-Terminplan s
 teht Dir hier als PDF (https://www.freiraum-institut.at/Jacomo/upload/reiki
 -ausbildung-basiskurs-termine-wien.pdf) zur Verfügung!\nHier kannst Du dir 
 Fotos von unseren Ausbildungsgruppen seit 2005 ansehen (http://www.reiki.or
 .at/de/index.htm)\nDer Reiki-Basiskurs (kleine Haus-Apotheke für Groß und K
 lein) findet im Raum 1 UND 2 vom FREIRAUM-Institut, Liechtensteinstr. 10A (
 Ecke Türkenstraße) statt. \nBei der U2-Station Schottentor.\nTIPP: An Woche
 nenden gilt die Kurzparkzone NICHT!\n \nwww.freiraum-institut.at/seminare-a
 usbildungen/reiki-basiskurs-wien (https://www.freiraum-institut.at/seminare
 -ausbildungen/reiki-basiskurs-wien)\n
X-ALT-DESC;FMTTYPE=text/html:<p> </p><p>erstes Jahr der zweijährigen Ausbildung zur diplomierten Reiki-T
 herapeutin / zum diplomierten Reiki-Therapeuten nach ÖBRT-Richtlinien</p><p
 >Diese erste Ausbildungsstufe findet als <strong>Wochenendkurs</strong> an 
 7 Wochenenden (jeweils Samstag und Sonntag von 10:00-16:00 Uhr) statt. <br 
 /><br /><strong>Zu Beginn stehen </strong><strong>2 Intensiv-Wochenenden am
  Programm:</strong></p><ul><li>am <strong>ersten Wochenende</strong> werden
  die Grundlagen der Aura-, Chakren- und Reiki-Arbeit vermittelt (Module A-E
 ) (1. Grad),</li><li>am <strong>zweiten Wochenende</strong> wird die Reiki-
 Einstimmung (Modul 1.1), sowie sämtliche Grundpositionen (1.2 - 1.5) (2. Gr
 ad) unterrichtet. </li></ul><p>Alle weiteren Reiki-Wochenenden können in na
 hezu beliebiger Reihenfolge absolviert werden: versäumst Du ein Wochenende 
 oder einen einzelnen Tag, kannst Du diese Inhalte beim nächsten oder übernä
 chsten Durchgang kostenlos nachholen. Bis zu 3 Jahre nach Beginn des Reiki-
 Basiskurses!</p><p>Nach Absolvierung von zumindest 6 Wochenenden (also mehr
  als 80% Anwesenheit, bezogen auf die gesamte Ausbildungsdauer des ersten J
 ahres) kann das zweite Ausbildungsjahr begonnen werden.</p><h3>Teilnahmebes
 tätigung und Abschlussarbeit</h3><p>Für die erste Reikiausbildungsstufe (an
 alog zum "ersten Grad", "zweiten Grad" und "dritten Grad") der Ausbildung w
 ird eine <strong>Reiki-Basiskurs-Zertifikat</strong> verliehen. <br />Nach 
 erfolgreicher Absolvierung des zweiten Ausbildungsjahres (umfasst 14 Wochen
 enden) und der Verfassung einer kleinen <strong>Diplomarbeit</strong> zu ei
 nem Reiki-relevanten Thema (inkl. Fallstudie der selbst gegebenen Reiki-Sit
 zungen), wird das <strong>Reiki-Diplom</strong>(Berufsbefähigung) verliehen
 . <br />Eine Aufnahme in den <a title="Berufsverband der diplomierten Reiki
 -TherapeutInnen" href="http://www.oebrt.at/" target="_blank" rel="noopener 
 noreferrer">Österreichischen Berufsverband der diplomierten Reiki-Therapeut
 Innen (ÖBRT)</a> kann damit beantragt werden.</p><p><a title="Reiki-Basisku
 rs-Programm" href="https://www.freiraum-institut.at/Jacomo/upload/reiki-aus
 bildung-basiskurs-wien.pdf" target="_blank" rel="noopener noreferrer"><stro
 ng>Reiki-Ausbildungsprogramm des Basiskurses</strong>:</a> hier findest Du 
 das gesamte Programm und den Terminplan der Reiki-Ausbildung (Basiskurs) al
 s PDF zum Download oder ausdrucken!</p><h3>Anmeldung: <a title="Reiki-Basis
 kurs-Anmeldung" href="https://www.freiraum-institut.at/seminare-ausbildunge
 n/reiki-basiskurs-wien" target="_blank" rel="noopener noreferrer">online</a
 ></h3><p>Der Ausbildungsplatz ist gesichert, sobald der <strong>Kursbeitrag
  von € 980,-</strong> auf dem FREIRAUM-Konto eingegangen ist.<br />Eine Tei
 lzahlung in 7 Raten zu jeweils € 150,- (monatlich) ist selbstverständlich m
 öglich!</p><p>Versäumte Reiki-Ausbildungstage (Module) können innerhalb von
  3 Jahren bei einem der folgenden Durchgänge <strong>kostenlos</strong> nac
 hgeholt werden!<br />Der <strong><a title="Reiki-Basiskurs-Termine im FREIR
 AUM-Institut in Wien" href="https://www.freiraum-institut.at/Jacomo/upload/
 reiki-ausbildung-basiskurs-termine-wien.pdf" target="_blank" rel="noopener 
 noreferrer">Reiki-Basiskurs-Terminplan steht Dir hier als PDF</a></strong> 
 zur Verfügung!</p><p><strong><a title="Reiki Wien" href="http://www.reiki.o
 r.at/de/index.htm" target="_blank" rel="noopener noreferrer">Hier kannst Du
  dir Fotos von unseren Ausbildungsgruppen seit 2005 ansehen</a></strong></p
 ><p>Der Reiki-Basiskurs (kleine Haus-Apotheke für Groß und Klein) findet im
  Raum 1 <span style="text-decoration: underline;">UND</span> 2 vom FREIRAUM
 -Institut, Liechtensteinstr. 10A (Ecke Türkenstraße) statt. <br />Bei der U
 2-Station Schottentor.<br /><strong>TIPP:</strong> An Wochenenden gilt die 
 Kurzparkzone NICHT!</p><p> </p><p><a title="Reiki-Basiskurs, die kleine Hau
 s-Apotheke für Groß und Klein" href="https://www.freiraum-institut.at/semin
 are-ausbildungen/reiki-basiskurs-wien" target="_blank" rel="noopener norefe
 rrer">www.freiraum-institut.at/seminare-ausbildungen/reiki-basiskurs-wien</
 a></p>
CONTACT:Tel.: 0699/10-24-24-03 oder https://www.reiki.or.at
X-EXTRAINFO:[preis='98000'][anmeldung='true']
DTSTAMP:20260425T152925
DTSTART:20190112T090000
DTEND:20190112T150000
SEQUENCE:0
TRANSP:OPAQUE
END:VEVENT
END:VCALENDAR