BEGIN:VCALENDAR
VERSION:2.0
PRODID:-//jEvents 2.0 for Joomla//EN
CALSCALE:GREGORIAN
METHOD:PUBLISH
BEGIN:VEVENT
UID:ed485d0dd4d252cd96099abc2b0a318c
CATEGORIES:18. Bezirk
CREATED:20190109T202330
SUMMARY:Lerne BabySteps kennen
LOCATION:Spielringel
DESCRIPTION:<p>Lerne BabySteps kennen!</p><p>Dein Baby ist geboren und du magst alles r
 ichtig machen und dabei ergeben sich tausend Fragen und viele Ratschläge, d
 ie sich total widersprechen. </p><p>In den Einfach Eltern Workshops spreche
 n wir zu einem konkreten Thema ganz genau und du kannst alle deine Fragen s
 tellen. </p><p>Der Workshop soll dir helfen, Ammenmärchen zu hinterfragen u
 nd dich auf dein Herz zu verlassen - so kannst du mit Wissen den Alltag mit
  deinem Baby entspannt erleben. - Durch die wundervolle Wissenschaf(ft) Bin
 dung!</p><p>Im Kennenlern Termin stelle ich dir das Konzept von BabySteps v
 or und du bekommst einen ersten Eindruck, was wir im Kurs alles machen werd
 en und wie er abläuft. </p><p>Die € 10.-- für die Kennenlern Stunde werden 
 dir bei der Anmeldung für den Kurs gutschrieben!</p><p> </p>
CONTACT:www.babysteps-wien.at
X-EXTRAINFO:[preis='1000'][anmeldung='true']
DTSTAMP:20260425T154159
DTSTART:20190117T160000
DTEND:20190117T170000
SEQUENCE:0
TRANSP:OPAQUE
END:VEVENT
END:VCALENDAR