BEGIN:VCALENDAR
VERSION:2.0
PRODID:-//jEvents 2.0 for Joomla//EN
CALSCALE:GREGORIAN
METHOD:PUBLISH
BEGIN:VEVENT
UID:0990c274f9f4a9ef04e801b0722d2242
CATEGORIES:6. Bezirk
CREATED:20190109T202512
SUMMARY:Einfach Eltern Workshop
LOCATION:Biolino Institut
DESCRIPTION:Dein Baby ist geboren und du magst alles richtig machen und dabei ergeben s
 ich tausend Fragen und viele Ratschläge, die sich total widersprechen. \nIn
  den Einfach Eltern Workshops sprechen wir zu einem konkreten Thema ganz ge
 nau und du kannst alle deine Fragen stellen. \nDer Workshop soll dir helfen
 , Ammenmärchen zu hinterfragen und dich auf dein Herz zu verlassen - so kan
 nst du mit Wissen den Alltag mit deinem Baby entspannt erleben. - Durch die
  wundervolle Wissenschaf(ft) Bindung!\nIm Workshop widmen wir uns ganz dem 
 Fundament all unserer Beziehungen - der BINDUNG. \nWie entsteht Bindung? Wa
 rum ist sie so wichtig? Welche Mythen ranken sich um das Thema? Wie kann ic
 h mein Kind unterstützen, ein selbstbewusster, empathischer Erwachsener zu 
 werden? \nIch spreche über die aktuellsten Erkenntnisse der Entwicklungs- u
 nd Hirnforschung und es gibt viel Platz für eure Fragen, Ängste und Hoffnun
 gen, ganz nach dem BabySteps Konzept.\n
X-ALT-DESC;FMTTYPE=text/html:<p>Dein Baby ist geboren und du magst alles richtig machen und dabei ergebe
 n sich tausend Fragen und viele Ratschläge, die sich total widersprechen. <
 /p><p>In den Einfach Eltern Workshops sprechen wir zu einem konkreten Thema
  ganz genau und du kannst alle deine Fragen stellen. </p><p>Der Workshop so
 ll dir helfen, Ammenmärchen zu hinterfragen und dich auf dein Herz zu verla
 ssen - so kannst du mit Wissen den Alltag mit deinem Baby entspannt erleben
 . - Durch die wundervolle Wissenschaf(ft) Bindung!</p><p>Im Workshop widmen
  wir uns ganz dem Fundament all unserer Beziehungen - der BINDUNG. </p><p>W
 ie entsteht Bindung? Warum ist sie so wichtig? Welche Mythen ranken sich um
  das Thema? Wie kann ich mein Kind unterstützen, ein selbstbewusster, empat
 hischer Erwachsener zu werden? </p><p>Ich spreche über die aktuellsten Erke
 nntnisse der Entwicklungs- und Hirnforschung und es gibt viel Platz für eur
 e Fragen, Ängste und Hoffnungen, ganz nach dem BabySteps Konzept.</p>
CONTACT:www.babysteps-wien.at
X-EXTRAINFO:[preis='1500'][anmeldung='true']
DTSTAMP:20260423T165641
DTSTART:20190128T090000
DTEND:20190128T103000
SEQUENCE:0
TRANSP:OPAQUE
END:VEVENT
END:VCALENDAR