BEGIN:VCALENDAR
VERSION:2.0
PRODID:-//jEvents 2.0 for Joomla//EN
CALSCALE:GREGORIAN
METHOD:PUBLISH
BEGIN:VEVENT
UID:5dae5a0136ea9cedef16b391be8da4ed
CATEGORIES:18. Bezirk
CREATED:20190109T202720
SUMMARY:BabySteps Kurs
LOCATION:Spielringel
DESCRIPTION:Der BabySteps Kurs von Einfach Eltern® \nKaum ist das Baby da, ist die Welt
  voller Fragen! Ich möchte Dir helfen, Dein Baby besser zu verstehen und De
 inen persönlichen Weg als Mama oder Papa zu finden. BabySteps ist ein ganzh
 eitlicher Babykurs in gemütlicher Atmosphäre mit Spielanregungen, Babymassa
 ge, Sing- und Schoßspielen sowie Austausch mit anderen Eltern.\nGeeignet fü
 r Babys geboren im September, Oktober, November, Dezember 2018 und Jänner, 
 Februar 2019.\nDie Termine sind \nDienstag, 11:15 - 12:45 Uhr\nDie erste St
 unde am 26.02. ist eine kostenlose Schnupperstunde!\n26.02., 05.03., 12.03.
 , 19.03, 26.03., 02.04., 16.04., 23.04.\nDie Kursräume befinden sich imSpie
 lringelMollgasse 11-131180 Wien
X-ALT-DESC;FMTTYPE=text/html:<p>Der <strong>BabySteps Kurs</strong> von Einfach Eltern® </p><p>Kaum ist 
 das Baby da, ist die Welt voller Fragen! Ich möchte Dir helfen, Dein Baby b
 esser zu verstehen und Deinen persönlichen Weg als Mama oder Papa zu finden
 . BabySteps ist ein ganzheitlicher Babykurs in gemütlicher Atmosphäre mit S
 pielanregungen, Babymassage, Sing- und Schoßspielen sowie Austausch mit and
 eren Eltern.</p><p>Geeignet für Babys geboren im September, Oktober, Novemb
 er, Dezember 2018 und Jänner, Februar 2019.</p><p>Die Termine sind </p><p>D
 ienstag, 11:15 - 12:45 Uhr</p><p>Die erste Stunde am 26.02. ist eine kosten
 lose Schnupperstunde!</p><p>26.02., 05.03., 12.03., 19.03, 26.03., 02.04., 
 16.04., 23.04.</p><h4><strong>Die Kursräume befinden sich im</strong></h4><
 h4>Spielringel</h4><h4>Mollgasse 11-13</h4><h4>1180 Wien</h4>
CONTACT:www.babysteps-wien.at
X-EXTRAINFO:[preis='12000'][anmeldung='true']
DTSTAMP:20260425T135248
DTSTART:20190226T101500
DTEND:20190226T114500
SEQUENCE:0
TRANSP:OPAQUE
END:VEVENT
END:VCALENDAR