BEGIN:VCALENDAR
VERSION:2.0
PRODID:-//jEvents 2.0 for Joomla//EN
CALSCALE:GREGORIAN
METHOD:PUBLISH
BEGIN:VEVENT
UID:2aa53b175bca17f0c78eb005a1b149ee
CATEGORIES:18. Bezirk
CREATED:20190109T202847
SUMMARY:BabySteps Schnupperstunde
LOCATION:Spielringel
DESCRIPTION:Der BabySteps Kurs von Einfach Eltern® \nKaum ist das Baby da, ist die Welt
  voller Fragen! Ich möchte Dir helfen, Dein Baby besser zu verstehen und De
 inen persönlichen Weg als Mama oder Papa zu finden. BabySteps ist ein ganzh
 eitlicher Babykurs in gemütlicher Atmosphäre mit Spielanregungen, Babymassa
 ge, Sing- und Schoßspielen sowie Austausch mit anderen Eltern.\nGeeignet fü
 r Babys geboren im September, Oktober, November, Dezember 2018 und Jänner, 
 Februar 2019.\n \nKOSTENLOSE SCHNUPPERSTUNDE für den 8 Wochenkurs!\nDie Kur
 sräume befinden sich imSpielringelMollgasse 11-131180 Wien
X-ALT-DESC;FMTTYPE=text/html:<p>Der <strong>BabySteps Kurs</strong> von Einfach Eltern® </p><p>Kaum ist 
 das Baby da, ist die Welt voller Fragen! Ich möchte Dir helfen, Dein Baby b
 esser zu verstehen und Deinen persönlichen Weg als Mama oder Papa zu finden
 . BabySteps ist ein ganzheitlicher Babykurs in gemütlicher Atmosphäre mit S
 pielanregungen, Babymassage, Sing- und Schoßspielen sowie Austausch mit and
 eren Eltern.</p><p>Geeignet für Babys geboren im September, Oktober, Novemb
 er, Dezember 2018 und Jänner, Februar 2019.</p><p> </p><p>KOSTENLOSE SCHNUP
 PERSTUNDE für den 8 Wochenkurs!</p><h4><strong>Die Kursräume befinden sich 
 im</strong></h4><h4>Spielringel</h4><h4>Mollgasse 11-13</h4><h4>1180 Wien</
 h4>
CONTACT:info@trageberatung-elfimbeutel.at
X-EXTRAINFO:[preis='000'][anmeldung='true']
DTSTAMP:20260425T170312
DTSTART:20190226T101500
DTEND:20190226T114500
SEQUENCE:0
TRANSP:OPAQUE
END:VEVENT
END:VCALENDAR