BEGIN:VCALENDAR
VERSION:2.0
PRODID:-//jEvents 2.0 for Joomla//EN
CALSCALE:GREGORIAN
METHOD:PUBLISH
BEGIN:VEVENT
UID:f1c808647e5305302f0f15ba5ceb5117
CATEGORIES:6. Bezirk
CREATED:20190109T203037
SUMMARY:BabySteps Kurs
LOCATION:Biolino Institut
DESCRIPTION:Der BabySteps Kurs von Einfach Eltern® \nKaum ist das Baby da, ist die Welt
  voller Fragen! Ich möchte Dir helfen, Dein Baby besser zu verstehen und De
 inen persönlichen Weg als Mama oder Papa zu finden. BabySteps ist ein ganzh
 eitlicher Babykurs in gemütlicher Atmosphäre mit Spielanregungen, Babymassa
 ge, Sing- und Schoßspielen sowie Austausch mit anderen Eltern.\nGeeignet fü
 r Babys geboren November und Dezember 2018, Jänner, Februar und März 2019.\
 n \nDer Kurs findet immer montags von 13:00 bis 14:30 statt. \n01.04.2019, 
 08.04.2019, 15.05.2019, 29.04.2019, 06.05.2019, 13.05.2019, 20.05.2019 und 
 27.05.2019\n \nDie Kursräume befinden sich imBiolino InstitutSandwirtgasse 
 13/121060 Wien
X-ALT-DESC;FMTTYPE=text/html:<p>Der <strong>BabySteps Kurs</strong> von Einfach Eltern® </p><p>Kaum ist 
 das Baby da, ist die Welt voller Fragen! Ich möchte Dir helfen, Dein Baby b
 esser zu verstehen und Deinen persönlichen Weg als Mama oder Papa zu finden
 . BabySteps ist ein ganzheitlicher Babykurs in gemütlicher Atmosphäre mit S
 pielanregungen, Babymassage, Sing- und Schoßspielen sowie Austausch mit and
 eren Eltern.</p><p>Geeignet für Babys geboren November und Dezember 2018, J
 änner, Februar und März 2019.</p><p> </p><p>Der Kurs findet immer montags v
 on 13:00 bis 14:30 statt. </p><p>01.04.2019, 08.04.2019, 15.05.2019, 29.04.
 2019, 06.05.2019, 13.05.2019, 20.05.2019 und 27.05.2019</p><p> </p><h4><str
 ong>Die Kursräume befinden sich im</strong></h4><h4><strong>Biolino Institu
 t</strong></h4><h4><strong>Sandwirtgasse 13/12</strong></h4><h4><strong>106
 0 Wien</strong></h4>
CONTACT:www.babysteps-wien.at
X-EXTRAINFO:[preis='12000'][anmeldung='true']
DTSTAMP:20260425T120330
DTSTART:20190401T110000
DTEND:20190401T123000
SEQUENCE:0
TRANSP:OPAQUE
END:VEVENT
END:VCALENDAR