BEGIN:VCALENDAR
VERSION:2.0
PRODID:-//jEvents 2.0 for Joomla//EN
CALSCALE:GREGORIAN
METHOD:PUBLISH
BEGIN:VEVENT
UID:33df56799af78b9af17388080918227a
CATEGORIES:6. Bezirk
CREATED:20190109T203222
SUMMARY:BabySteps Schnupperstunde
LOCATION:Biolino
DESCRIPTION:Der BabySteps Kurs von Einfach Eltern® \nKaum ist das Baby da, ist die Welt
  voller Fragen! Ich möchte Dir helfen, Dein Baby besser zu verstehen und De
 inen persönlichen Weg als Mama oder Papa zu finden. BabySteps ist ein ganzh
 eitlicher Babykurs in gemütlicher Atmosphäre mit Spielanregungen, Babymassa
 ge, Sing- und Schoßspielen sowie Austausch mit anderen Eltern.\nGeeignet fü
 r Babys geboren November und Dezember 2018, Jänner, Februar und März 2019.\
 n KOSTENLOSE SCHNUPPERSTUNDE für den 8 Wochenkurs! \nDie Kursräume befinden
  sich imBiolino InstitutSandwirtgasse 13/121060 Wien
X-ALT-DESC;FMTTYPE=text/html:<p>Der <strong>BabySteps Kurs</strong> von Einfach Eltern® </p><p>Kaum ist 
 das Baby da, ist die Welt voller Fragen! Ich möchte Dir helfen, Dein Baby b
 esser zu verstehen und Deinen persönlichen Weg als Mama oder Papa zu finden
 . BabySteps ist ein ganzheitlicher Babykurs in gemütlicher Atmosphäre mit S
 pielanregungen, Babymassage, Sing- und Schoßspielen sowie Austausch mit and
 eren Eltern.</p><p>Geeignet für Babys geboren November und Dezember 2018, J
 änner, Februar und März 2019.</p><p> KOSTENLOSE SCHNUPPERSTUNDE für den 8 W
 ochenkurs! </p><h4><strong>Die Kursräume befinden sich im</strong></h4><h4>
 <strong>Biolino Institut</strong></h4><h4><strong>Sandwirtgasse 13/12</stro
 ng></h4><h4><strong>1060 Wien</strong></h4>
CONTACT:info@trageberatung-elfimbeutel.at
X-EXTRAINFO:[preis='000'][anmeldung='true']
DTSTAMP:20260423T140126
DTSTART:20190401T110000
DTEND:20190401T123000
SEQUENCE:0
TRANSP:OPAQUE
END:VEVENT
END:VCALENDAR