BEGIN:VCALENDAR
VERSION:2.0
PRODID:-//jEvents 2.0 for Joomla//EN
CALSCALE:GREGORIAN
METHOD:PUBLISH
BEGIN:VEVENT
UID:16e98ada84731c21d14054bc88775bd9
CATEGORIES:2. Bezirk
CREATED:20190110T110701
SUMMARY:Grenzen Setzen - aber wie? 2-teiliger Elternbildungsworkshop
LOCATION:Kind&amp;Kegel Eltern-Kind-Zentrum\, 2.Praterstr. 14/8
DESCRIPTION:Grenzen setzen - aber wie? [Workshop Teil 1]Wann sind Grenzen notwendig? Wi
 e gelingt es mir, dass die Grenzen eingehalten werden? Was haben meine eige
 nen Erfahrungen mit Grenzen als Kind damit zu tun? \nDiese Fragen und die d
 er TeilnehmerInnen, werden wir gemeinsam an 2 Abenden besprechen. \nAls Met
 hoden dieses auf 2 Abende aufgeteilten Workshops setzen wir Theorie-Input, 
 praktische Übungen und Austausch ein.\nLeitung: Eva Schrems, MA, Montessori
 - und Theaterpädagogin, systemische Coach\nTermine: Dienstag, 26.03. und 09
 .04.2019, 1830 - 2030 Uhr\nKosten: € 55,- (für beide Termine), Anmeldung er
 forderlich!\n
X-ALT-DESC;FMTTYPE=text/html:<h2 class="unterstrich">Grenzen setzen - aber wie? [Workshop Teil 1]</h2><p
  align="left">Wann sind Grenzen notwendig? Wie gelingt es mir, dass die Gre
 nzen eingehalten werden? Was haben meine eigenen Erfahrungen mit Grenzen al
 s Kind damit zu tun? <br />Diese Fragen und die der TeilnehmerInnen, werden
  wir gemeinsam an 2 Abenden besprechen. <br />Als Methoden dieses auf 2 Abe
 nde aufgeteilten Workshops setzen wir Theorie-Input, praktische Übungen und
  Austausch ein.</p><p><span class="fett">Leitung:</span> Eva Schrems, MA, M
 ontessori- und Theaterpädagogin, systemische Coach<br /><span class="fett">
 Termine:</span> Dienstag, 26.03. und 09.04.2019, 18<span class="kleinhoch">
 30</span> - 20<span class="kleinhoch">30</span> Uhr<br /><span class="fett"
 >Kosten</span>: € 55,- (für beide Termine), Anmeldung erforderlich!</p>
CONTACT:info@kind-und-kegel.at, 01 503 71 88, www.kind-und-kegel.at
X-EXTRAINFO:[preis='5500'][anmeldung='true']
DTSTAMP:20260423T194901
DTSTART:20190326T173000
DTEND:20190326T193000
SEQUENCE:0
TRANSP:OPAQUE
END:VEVENT
END:VCALENDAR