BEGIN:VCALENDAR
VERSION:2.0
PRODID:-//jEvents 2.0 for Joomla//EN
CALSCALE:GREGORIAN
METHOD:PUBLISH
BEGIN:VEVENT
UID:caa2934c52c4a5246ab7aea8c3256734
CATEGORIES:2. Bezirk
CREATED:20190110T110756
SUMMARY:Grenzen Setzen - aber wie? 2-teiliger Elternbildungsworkshop
LOCATION:Kind&amp;Kegel Eltern-Kind-Zentrum\, 2.\, Praterstr. 14/8
DESCRIPTION:<h2 class="unterstrich">Grenzen setzen - aber wie? [Workshop Teil 2]</h2><p
  align="left">Wann sind Grenzen notwendig? Wie gelingt es mir, dass die Gre
 nzen eingehalten werden? Was haben meine eigenen Erfahrungen mit Grenzen al
 s Kind damit zu tun? <br />Diese Fragen und die der TeilnehmerInnen, werden
  wir gemeinsam an 2 Abenden besprechen. <br />Als Methoden dieses auf 2 Abe
 nde aufgeteilten Workshops setzen wir Theorie-Input, praktische Übungen und
  Austausch ein.</p><p><span class="fett">Leitung:</span> Eva Schrems, MA, M
 ontessori- und Theaterpädagogin, systemische Coach<br /><span class="fett">
 Termine:</span> Dienstag, 26.03. und 09.04.2019, 18<span class="kleinhoch">
 30</span> - 20<span class="kleinhoch">30</span> Uhr<br /><span class="fett"
 >Kosten</span>: € 55,- (für beide Termine), Anmeldung erforderlich!</p>
CONTACT:info@kind-und-kegel.at, 01 503 71 88, www.kind-und-kegel.at
X-EXTRAINFO:[preis='5500'][anmeldung='true']
DTSTAMP:20260423T211853
DTSTART:20190409T163000
DTEND:20190409T183000
SEQUENCE:0
TRANSP:OPAQUE
END:VEVENT
END:VCALENDAR