BEGIN:VCALENDAR
VERSION:2.0
PRODID:-//jEvents 2.0 for Joomla//EN
CALSCALE:GREGORIAN
METHOD:PUBLISH
BEGIN:VEVENT
UID:1121530d68bc7652cffa3da9aeca9520
CATEGORIES:2. Bezirk
CREATED:20190110T113108
SUMMARY:Entscheidungshilfe bei der Schulwahl - Vortrag Elternbildung
LOCATION:Kind&amp;Kegel Eltern-Kind-Zentrum\, 2.\, Praterstr. 14/8
DESCRIPTION:Die Entscheidung für die richtige Schule fällt oft nicht leicht. Schulen un
 terscheiden sich zusehends mehr und können einen großen Unterschied machen.
  Welche Unterschiede die Schulauswahl bestimmen sollten, bleibt für Eltern 
 oft auch an "Tagen der offenen Tür" unklar. Der Vortrag gibt einen Überblic
 k über die Wiener Schullandschaft, skizziert die Rahmenbedingungen der Schu
 lsuche in Wien und zeigt relevante Unterschiede von Schulen auf.\nAnmeldung
  bis spätestens Dienstag, 21.5.19 (Mindest-/Maximalteilnehmerzahl!)\nLeitun
 g: Mag. Gerhard Patzner, Pädagoge\nTermin: Donnerstag, 23.05.19, 19:00 Uhr\
 nKosten: € 20,- (Anmeldung erforderlich!)\n
X-ALT-DESC;FMTTYPE=text/html:<p>Die Entscheidung für die richtige Schule fällt oft nicht leicht. Schulen
  unterscheiden sich zusehends mehr und können einen großen Unterschied mach
 en. Welche Unterschiede die Schulauswahl bestimmen sollten, bleibt für Elte
 rn oft auch an "Tagen der offenen Tür" unklar. Der Vortrag gibt einen Überb
 lick über die Wiener Schullandschaft, skizziert die Rahmenbedingungen der S
 chulsuche in Wien und zeigt relevante Unterschiede von Schulen auf.</p><p>A
 nmeldung bis spätestens Dienstag, 21.5.19 (Mindest-/Maximalteilnehmerzahl!)
 </p><p><span class="fett">Leitung:</span> Mag. Gerhard Patzner, Pädagoge<br
  /><span class="fett">Termin</span>: Donnerstag, 23.05.19, 19:<span class="
 kleinhoch">00</span> Uhr<br /><span class="fett">Kosten</span>: € 20,- (Anm
 eldung erforderlich!)</p>
CONTACT:info@kind-und-kegel.at, 01 503 71 88, www.kind-und-kegel.at
X-EXTRAINFO:[preis='2000'][anmeldung='true']
DTSTAMP:20260423T225407
DTSTART:20190523T170000
DTEND:20190523T190000
SEQUENCE:0
TRANSP:OPAQUE
END:VEVENT
END:VCALENDAR