BEGIN:VCALENDAR
VERSION:2.0
PRODID:-//jEvents 2.0 for Joomla//EN
CALSCALE:GREGORIAN
METHOD:PUBLISH
BEGIN:VEVENT
UID:6b674c0a5c5fee9fcec1178b65f942df
CATEGORIES:2. Bezirk
CREATED:20190110T113632
SUMMARY:Sexuelle Entwicklung des Kindes - Vortrag Elternbildung
LOCATION:Kind&amp;Kegel Eltern-Kind-Zentrum\, 2.\, Praterstr. 14/8
DESCRIPTION: Sexuelle Bildung – von Anfang an!\n(Vortrag mit anschließendem Austausch)\
 nAlle Menschen werden als sexuelle Wesen geboren. Vielen Eltern macht diese
 r Gedanke Angst, weil sie ihre Kinder natürlicherweise schützen wollen. Bei
 m Thema kindliche sexuelle Entwicklung ist jedoch am wichtigsten, zu begrei
 fen, dass kindliche Sexualität nichts mit dem zu tun hat, was Erwachsene un
 ter Sexualität verstehen. In diesem Vortrag geht es darum, die kindliche se
 xuelle Entwicklung als Teil des \nHeranwachsens von Menschen verstehen zu l
 ernen. Eltern und andere Bezugspersonen können hier erfahren, wie sie von G
 eburt an im Erziehungsalltag adäquat bei der sexuellen Bildung eines Kindes
  unterstützen können. Durch einen altersgerechten Umgang mit Sexualität kan
 n ein wichtiger Schutz vor (sexueller) Gewalt geleistet und Kinder zu selbs
 tbestimmten Erwachsenen erzogen werden.\nLeitung: Cornelia Lindner\nTermin:
  Dienstag, 12.03.2019, 18:30 Uhr\nKosten: € 20,- Anmeldung erforderlich!\n
X-ALT-DESC;FMTTYPE=text/html:<h2 class="unterstrich"> </h2><p align="left"><span class="fett">Sexuelle B
 ildung – von Anfang an!<br /></span><i>(Vortrag mit anschließendem Austausc
 h)</i></p><p align="left">Alle Menschen werden als sexuelle Wesen geboren. 
 Vielen Eltern macht dieser Gedanke Angst, weil sie ihre Kinder natürlicherw
 eise schützen wollen. Beim Thema kindliche sexuelle Entwicklung ist jedoch 
 am wichtigsten, zu begreifen, dass kindliche Sexualität nichts mit dem zu t
 un hat, was Erwachsene unter Sexualität verstehen. In diesem Vortrag geht e
 s darum, die kindliche sexuelle Entwicklung als Teil des <br />Heranwachsen
 s von Menschen verstehen zu lernen. Eltern und andere Bezugspersonen können
  hier erfahren, wie sie von Geburt an im Erziehungsalltag adäquat bei der s
 exuellen Bildung eines Kindes unterstützen können. Durch einen altersgerech
 ten Umgang mit Sexualität kann ein wichtiger Schutz vor (sexueller) Gewalt 
 geleistet und Kinder zu selbstbestimmten Erwachsenen erzogen werden.</p><p>
 <span class="fett">Leitung:</span> Cornelia Lindner<br /><span class="fett"
 >Termin:</span> Dienstag, 12.03.2019, 18:<span class="kleinhoch">30 </span>
 Uhr<br /><span class="fett">Kosten</span>: € 20,- Anmeldung erforderlich!</
 p>
CONTACT:info@kind-und-kegel.at, 01 503 71 88, www.kind-und-kegel.at
X-EXTRAINFO:[preis='2000'][anmeldung='true']
DTSTAMP:20260423T194917
DTSTART:20190312T173000
DTEND:20190312T193000
SEQUENCE:0
TRANSP:OPAQUE
END:VEVENT
END:VCALENDAR