BEGIN:VCALENDAR
VERSION:2.0
PRODID:-//jEvents 2.0 for Joomla//EN
CALSCALE:GREGORIAN
METHOD:PUBLISH
BEGIN:VEVENT
UID:c4d7710f586c3b0dcd6b98bb7e9db1d0
CATEGORIES:2. Bezirk
CREATED:20190110T114000
SUMMARY:Geschlechterrollen - Vortrag Elternbildung
LOCATION:Kind&amp;Kegel Eltern-Kind-Zentrum\, 2.\, Praterstr. 14/8
DESCRIPTION:<h2 class="unterstrich"> </h2><p><strong><span class="fett">Typisch Bub. Ty
 pisch Mädchen. – Eine Auseinandersetzung mit Geschlechterrollen.</span></st
 rong><br /><i>Vortrag mit anschließendem Austausch</i></p><p>Im Kindergarte
 nalter ist Kindern die geschlechtliche Zuordnung und<br />die damit verbund
 enen gesellschaftlichen Normen noch egal. Buben in<br />Kleidern und Mädche
 n, die sich als Buben bezeichnen, sind hier ganz normal. Sobald Kinder ins 
 Volksschulalter kommen, geht es jedoch sehr schnell darum, was Buben und Mä
 dchen ausmacht. Das „eigene“ Geschlecht wird vom „anderen“ Geschlecht abgeg
 renzt und es<br />Entstehen oftmals Rivalitäten zwischen Buben und Mädchen,
  deren<br />Zweck die Abgrenzung der Geschlechter ist. Woher dieses Interes
 se und der Wunsch nach einer Abgrenzung kommen und was es mit Geschlechterr
 ollen auf sich hat, wird in diesem Vortrag beleuchtet. Es wird auch darauf 
 eingegangen, wie Eltern und andere Bezugspersonen Kinder abseits von Geschl
 echterstereotypen in ihrer sexuellen Entwicklung begleiten können.</p><p><s
 pan class="fett">Leitung:</span> Cornelia Lindner<br /><span class="fett">T
 ermin:</span> Dienstag, 07.05.2019, 18:<span class="kleinhoch">30 </span>Uh
 r<br /><span class="fett">Kosten</span>: € 20,- Anmeldung erforderlich!</p>
CONTACT:info@kind-und-kegel.at, 01 503 71 88, www.kind-und-kegel.at
X-EXTRAINFO:[preis='2000'][anmeldung='true']
DTSTAMP:20260424T145005
DTSTART:20190507T163000
DTEND:20190507T183000
SEQUENCE:0
TRANSP:OPAQUE
END:VEVENT
END:VCALENDAR