BEGIN:VCALENDAR
VERSION:2.0
PRODID:-//jEvents 2.0 for Joomla//EN
CALSCALE:GREGORIAN
METHOD:PUBLISH
BEGIN:VEVENT
UID:e34287bbca3720a3f8d55e648cbf8ec5
CATEGORIES:2. Bezirk
CREATED:20190110T121329
SUMMARY:Spiel- und BewegungsRaum nach Emmi Pikler 14-24 Monate
LOCATION:Kind&amp;Kegel Eltern-Kind-Zentrum\, 2.\, Praterstr. 14/8
DESCRIPTION: Für Kinder von 14 -24 MonateDer SpielRaum bietet sich als Experimentier- u
 nd Lernfeld für Eltern an. Sie bekommen hier die Möglichkeit, ihr Kind in s
 einen Eigenaktivitäten und im individuellen Rhythmus beim freien Spiel mit 
 den Krabbel-, Kletter- und Balanciergeräten zu beobachten.\n\n7-14 Monate:\
 nFreitag, 11:00-12:30, \nab 18.01.19 | 12 Einheiten (inkl. 2 Elterngespräch
 srunden), Kosten: € 176,-\nAnmeldung erforderlich!\n\n14-24 Monate\nFreitag
 , 09:15-10:45,\nab 18.01.19 | 12 Einheiten (inkl. 2 Elterngesprächsrunden),
  Kosten: € 176,-\nAnmeldung erforderlich!\n
X-ALT-DESC;FMTTYPE=text/html:<h2> </h2><h3>Für Kinder von 14 -24 Monate</h3><p>Der SpielRaum bietet sich
  als Experimentier- und Lernfeld für Eltern an. Sie bekommen hier die Mögli
 chkeit, ihr Kind in seinen Eigenaktivitäten und im individuellen Rhythmus b
 eim freien Spiel mit den Krabbel-, Kletter- und Balanciergeräten zu beobach
 ten.<br /><br /><span class="fett">7-14 Monate:</span><br />Freitag, 11:<sp
 an class="kleinhoch">00</span>-12:<span class="kleinhoch">30</span>, <br />
 ab 18.01.19 | 12 Einheiten (inkl. 2 Elterngesprächsrunden), Kosten: € 176,-
 <br />Anmeldung erforderlich!<br /><br /><strong><span class="fett">14-24 M
 onate</span></strong><br /><strong>Freitag, 0<span class="kleinhoch">9:15</
 span>-10:<span class="kleinhoch">45</span>,</strong><br /><strong>ab 18.01.
 19 | 12 Einheiten (inkl. 2 Elterngesprächsrunden), Kosten: € 176,-</strong>
 <br /><strong>Anmeldung erforderlich!</strong></p>
CONTACT:info@kind-und-kegel.at, 01 503 71 88, www.kind-und-kegel.at
X-EXTRAINFO:[preis='17600'][anmeldung='true']
DTSTAMP:20260423T152712
DTSTART:20190118T081500
DTEND:20190118T094500
SEQUENCE:0
TRANSP:OPAQUE
END:VEVENT
END:VCALENDAR