BEGIN:VCALENDAR
VERSION:2.0
PRODID:-//jEvents 2.0 for Joomla//EN
CALSCALE:GREGORIAN
METHOD:PUBLISH
BEGIN:VEVENT
UID:e4106b314ba440aed3527c036239293e
CATEGORIES:2. Bezirk
CREATED:20190110T121907
SUMMARY:Spiel- und BewegungsRaum nach Emmi Pikler 7-14 Monate
LOCATION:Kind&amp;Kegel Eltern-Kind-Zentrum\, 2.\, Praterstr. 14/8
DESCRIPTION: Für Kinder von 7 -24 MonateDer SpielRaum bietet sich als Experimentier- un
 d Lernfeld für Eltern an. Sie bekommen hier die Möglichkeit, ihr Kind in se
 inen Eigenaktivitäten und im individuellen Rhythmus beim freien Spiel mit d
 en Krabbel-, Kletter- und Balanciergeräten zu beobachten.\n\n7-14 Monate:\n
 Freitag, 11:00-12:30, \nab 18.01.19 | 12 Einheiten (inkl. 2 Elterngesprächs
 runden), Kosten: € 176,-\nAnmeldung erforderlich!\n\n14-24 Monate\nFreitag,
  09:15-10:45,\nab 18.01.19 | 12 Einheiten (inkl. 2 Elterngesprächsrunden), 
 Kosten: € 176,-\nAnmeldung erforderlich!\n
X-ALT-DESC;FMTTYPE=text/html:<h2> </h2><h3>Für Kinder von 7 -24 Monate</h3><p>Der SpielRaum bietet sich 
 als Experimentier- und Lernfeld für Eltern an. Sie bekommen hier die Möglic
 hkeit, ihr Kind in seinen Eigenaktivitäten und im individuellen Rhythmus be
 im freien Spiel mit den Krabbel-, Kletter- und Balanciergeräten zu beobacht
 en.<br /><br /><strong><span class="fett">7-14 Monate:</span></strong><br /
 ><strong>Freitag, 11:<span class="kleinhoch">00</span>-12:<span class="klei
 nhoch">30</span>, </strong><br /><strong>ab 18.01.19 | 12 Einheiten (inkl. 
 2 Elterngesprächsrunden), Kosten: € 176,-</strong><br /><strong>Anmeldung e
 rforderlich!</strong><br /><br /><span class="fett">14-24 Monate</span><br 
 />Freitag, 0<span class="kleinhoch">9:15</span>-10:<span class="kleinhoch">
 45</span>,<br />ab 18.01.19 | 12 Einheiten (inkl. 2 Elterngesprächsrunden),
  Kosten: € 176,-<br />Anmeldung erforderlich!</p>
CONTACT:info@kind-und-kegel.at, 01 503 71 88, www.kind-und-kegel.at
X-EXTRAINFO:[preis='17600'][anmeldung='true']
DTSTAMP:20260423T152713
DTSTART:20190118T100000
DTEND:20190118T113000
SEQUENCE:0
TRANSP:OPAQUE
END:VEVENT
END:VCALENDAR